BEGIN:VCALENDAR
VERSION:2.0
PRODID:-//achurchnearyou.com//eventfeed//EN
CALSCALE:GREGORIAN
METHOD:PUBLISH
X-WR-TIMEZONE:UTC
BEGIN:VEVENT
SUMMARY:Mothering Sunday 30th March 2025
DTSTART:20250330T093000Z
DTEND:20250330T103000Z
DTSTAMP:20260421T071302Z
UID:11628522025-03-30 09:30:00+00:00achurchnearyou
CATEGORIES:
DESCRIPTION:Mothering Sunday service at 10.30am Sunday 30th March 2025
GEO:-2.608795;53.713431
LOCATION:Brindle St James
URL:https://www.achurchnearyou.com/church/11478/service-and-events/events/
 1162852/
END:VEVENT
END:VCALENDAR
