BEGIN:VCALENDAR
VERSION:2.0
PRODID:-//achurchnearyou.com//eventfeed//EN
CALSCALE:GREGORIAN
METHOD:PUBLISH
X-WR-TIMEZONE:UTC
BEGIN:VEVENT
SUMMARY:Join in the Pray4Lancashire Initiative! From 6.30 p.m. to 8 p.m. 1
 st - 7th September
DTSTART;TZID=Europe/London:20250901T183000
DTEND;TZID=Europe/London:20250901T200000
DTSTAMP:20260420T213840Z
UID:12210082025-09-01 18:30:00+01:00achurchnearyou
CATEGORIES:
DESCRIPTION:During the Global Week of Prayer\, our Diocesan Year of Prayer
  for Growth and Renewal continues in towns and cities across Lancashire. J
 oin in the seven day ecumenical prayer event\, from 1 to 7 September. Brin
 dle St James will be open for people to come and pray from 6.30 p.m. to 8 
 p.m. every night of that week.  There will be the opportunity to pray alon
 e\, or to join in shared prayers.  \n\nEveryone is warmly invited to be pa
 rt of this wave of prayer and please do join in and spread the word #Pray4
 Lancashire #GlobalWeekOfPrayer.  \n\nFor more information and to book a 24
 /7 prayer slot\, go to this link >> https://signup.24-7prayer.com/signup/2
 4e39b/
GEO:-2.608795;53.713431
LOCATION:Brindle St James
URL:https://www.achurchnearyou.com/church/11478/service-and-events/events/
 1221008/
END:VEVENT
BEGIN:VEVENT
SUMMARY:Join in the Pray4Lancashire Initiative! From 6.30 p.m. to 8 p.m. 1
 st - 7th September
DTSTART;TZID=Europe/London:20250902T183000
DTEND;TZID=Europe/London:20250902T200000
DTSTAMP:20260420T213840Z
UID:12210082025-09-02 18:30:00+01:00achurchnearyou
CATEGORIES:
DESCRIPTION:During the Global Week of Prayer\, our Diocesan Year of Prayer
  for Growth and Renewal continues in towns and cities across Lancashire. J
 oin in the seven day ecumenical prayer event\, from 1 to 7 September. Brin
 dle St James will be open for people to come and pray from 6.30 p.m. to 8 
 p.m. every night of that week.  There will be the opportunity to pray alon
 e\, or to join in shared prayers.  \n\nEveryone is warmly invited to be pa
 rt of this wave of prayer and please do join in and spread the word #Pray4
 Lancashire #GlobalWeekOfPrayer.  \n\nFor more information and to book a 24
 /7 prayer slot\, go to this link >> https://signup.24-7prayer.com/signup/2
 4e39b/
GEO:-2.608795;53.713431
LOCATION:Brindle St James
URL:https://www.achurchnearyou.com/church/11478/service-and-events/events/
 1221008/
END:VEVENT
BEGIN:VEVENT
SUMMARY:Join in the Pray4Lancashire Initiative! From 6.30 p.m. to 8 p.m. 1
 st - 7th September
DTSTART;TZID=Europe/London:20250903T183000
DTEND;TZID=Europe/London:20250903T200000
DTSTAMP:20260420T213840Z
UID:12210082025-09-03 18:30:00+01:00achurchnearyou
CATEGORIES:
DESCRIPTION:During the Global Week of Prayer\, our Diocesan Year of Prayer
  for Growth and Renewal continues in towns and cities across Lancashire. J
 oin in the seven day ecumenical prayer event\, from 1 to 7 September. Brin
 dle St James will be open for people to come and pray from 6.30 p.m. to 8 
 p.m. every night of that week.  There will be the opportunity to pray alon
 e\, or to join in shared prayers.  \n\nEveryone is warmly invited to be pa
 rt of this wave of prayer and please do join in and spread the word #Pray4
 Lancashire #GlobalWeekOfPrayer.  \n\nFor more information and to book a 24
 /7 prayer slot\, go to this link >> https://signup.24-7prayer.com/signup/2
 4e39b/
GEO:-2.608795;53.713431
LOCATION:Brindle St James
URL:https://www.achurchnearyou.com/church/11478/service-and-events/events/
 1221008/
END:VEVENT
BEGIN:VEVENT
SUMMARY:Join in the Pray4Lancashire Initiative! From 6.30 p.m. to 8 p.m. 1
 st - 7th September
DTSTART;TZID=Europe/London:20250904T183000
DTEND;TZID=Europe/London:20250904T200000
DTSTAMP:20260420T213840Z
UID:12210082025-09-04 18:30:00+01:00achurchnearyou
CATEGORIES:
DESCRIPTION:During the Global Week of Prayer\, our Diocesan Year of Prayer
  for Growth and Renewal continues in towns and cities across Lancashire. J
 oin in the seven day ecumenical prayer event\, from 1 to 7 September. Brin
 dle St James will be open for people to come and pray from 6.30 p.m. to 8 
 p.m. every night of that week.  There will be the opportunity to pray alon
 e\, or to join in shared prayers.  \n\nEveryone is warmly invited to be pa
 rt of this wave of prayer and please do join in and spread the word #Pray4
 Lancashire #GlobalWeekOfPrayer.  \n\nFor more information and to book a 24
 /7 prayer slot\, go to this link >> https://signup.24-7prayer.com/signup/2
 4e39b/
GEO:-2.608795;53.713431
LOCATION:Brindle St James
URL:https://www.achurchnearyou.com/church/11478/service-and-events/events/
 1221008/
END:VEVENT
BEGIN:VEVENT
SUMMARY:Join in the Pray4Lancashire Initiative! From 6.30 p.m. to 8 p.m. 1
 st - 7th September
DTSTART;TZID=Europe/London:20250905T183000
DTEND;TZID=Europe/London:20250905T200000
DTSTAMP:20260420T213840Z
UID:12210082025-09-05 18:30:00+01:00achurchnearyou
CATEGORIES:
DESCRIPTION:During the Global Week of Prayer\, our Diocesan Year of Prayer
  for Growth and Renewal continues in towns and cities across Lancashire. J
 oin in the seven day ecumenical prayer event\, from 1 to 7 September. Brin
 dle St James will be open for people to come and pray from 6.30 p.m. to 8 
 p.m. every night of that week.  There will be the opportunity to pray alon
 e\, or to join in shared prayers.  \n\nEveryone is warmly invited to be pa
 rt of this wave of prayer and please do join in and spread the word #Pray4
 Lancashire #GlobalWeekOfPrayer.  \n\nFor more information and to book a 24
 /7 prayer slot\, go to this link >> https://signup.24-7prayer.com/signup/2
 4e39b/
GEO:-2.608795;53.713431
LOCATION:Brindle St James
URL:https://www.achurchnearyou.com/church/11478/service-and-events/events/
 1221008/
END:VEVENT
BEGIN:VEVENT
SUMMARY:Join in the Pray4Lancashire Initiative! From 6.30 p.m. to 8 p.m. 1
 st - 7th September
DTSTART;TZID=Europe/London:20250906T183000
DTEND;TZID=Europe/London:20250906T200000
DTSTAMP:20260420T213840Z
UID:12210082025-09-06 18:30:00+01:00achurchnearyou
CATEGORIES:
DESCRIPTION:During the Global Week of Prayer\, our Diocesan Year of Prayer
  for Growth and Renewal continues in towns and cities across Lancashire. J
 oin in the seven day ecumenical prayer event\, from 1 to 7 September. Brin
 dle St James will be open for people to come and pray from 6.30 p.m. to 8 
 p.m. every night of that week.  There will be the opportunity to pray alon
 e\, or to join in shared prayers.  \n\nEveryone is warmly invited to be pa
 rt of this wave of prayer and please do join in and spread the word #Pray4
 Lancashire #GlobalWeekOfPrayer.  \n\nFor more information and to book a 24
 /7 prayer slot\, go to this link >> https://signup.24-7prayer.com/signup/2
 4e39b/
GEO:-2.608795;53.713431
LOCATION:Brindle St James
URL:https://www.achurchnearyou.com/church/11478/service-and-events/events/
 1221008/
END:VEVENT
BEGIN:VEVENT
SUMMARY:Join in the Pray4Lancashire Initiative! From 6.30 p.m. to 8 p.m. 1
 st - 7th September
DTSTART;TZID=Europe/London:20250907T183000
DTEND;TZID=Europe/London:20250907T200000
DTSTAMP:20260420T213840Z
UID:12210082025-09-07 18:30:00+01:00achurchnearyou
CATEGORIES:
DESCRIPTION:During the Global Week of Prayer\, our Diocesan Year of Prayer
  for Growth and Renewal continues in towns and cities across Lancashire. J
 oin in the seven day ecumenical prayer event\, from 1 to 7 September. Brin
 dle St James will be open for people to come and pray from 6.30 p.m. to 8 
 p.m. every night of that week.  There will be the opportunity to pray alon
 e\, or to join in shared prayers.  \n\nEveryone is warmly invited to be pa
 rt of this wave of prayer and please do join in and spread the word #Pray4
 Lancashire #GlobalWeekOfPrayer.  \n\nFor more information and to book a 24
 /7 prayer slot\, go to this link >> https://signup.24-7prayer.com/signup/2
 4e39b/
GEO:-2.608795;53.713431
LOCATION:Brindle St James
URL:https://www.achurchnearyou.com/church/11478/service-and-events/events/
 1221008/
END:VEVENT
END:VCALENDAR
