BEGIN:VCALENDAR
VERSION:2.0
PRODID:-//achurchnearyou.com//eventfeed//EN
CALSCALE:GREGORIAN
METHOD:PUBLISH
X-WR-TIMEZONE:UTC
BEGIN:VEVENT
SUMMARY:Midnight Communion
DTSTART:20251224T231500Z
DTEND:20251224T235900Z
DTSTAMP:20260420T153658Z
UID:12462192025-12-24 23:15:00+00:00achurchnearyou
CATEGORIES:
DESCRIPTION:Midnight Communion on Christmas Eve starts at 11.15pm
GEO:-2.608795;53.713431
LOCATION:Brindle St James
URL:https://www.achurchnearyou.com/church/11478/service-and-events/events/
 1246219/
END:VEVENT
END:VCALENDAR
