BEGIN:VCALENDAR
VERSION:2.0
PRODID:-//achurchnearyou.com//eventfeed//EN
CALSCALE:GREGORIAN
METHOD:PUBLISH
X-WR-TIMEZONE:UTC
BEGIN:VEVENT
SUMMARY:Easter Sunday at 10.30am
DTSTART:20260405T093000Z
DTEND:20260405T103000Z
DTSTAMP:20260425T001112Z
UID:13124812026-04-05 09:30:00+00:00achurchnearyou
CATEGORIES:
DESCRIPTION:Choral Eucharist
GEO:-2.733266;53.654919
LOCATION:St Mary the Virgin\, Eccleston
URL:https://www.achurchnearyou.com/church/11489/service-and-events/events/
 1312481/
END:VEVENT
END:VCALENDAR
