BEGIN:VCALENDAR
VERSION:2.0
PRODID:-//achurchnearyou.com//eventfeed//EN
CALSCALE:GREGORIAN
METHOD:PUBLISH
X-WR-TIMEZONE:UTC
BEGIN:VEVENT
SUMMARY:Eucharist with Holy Week Address
DTSTART:20260331T170000Z
DTEND:20260331T180000Z
DTSTAMP:20260425T000523Z
UID:13182892026-03-31 17:00:00+00:00achurchnearyou
CATEGORIES:
DESCRIPTION:Join us on Holy Tuesday for a said Eucharist with Holy Week ad
 dress.
LOCATION:Christ Church\, Charnock Richard
URL:https://www.achurchnearyou.com/church/11489/service-and-events/events/
 1318289/
END:VEVENT
END:VCALENDAR
