BEGIN:VCALENDAR
VERSION:2.0
PRODID:-//achurchnearyou.com//eventfeed//EN
CALSCALE:GREGORIAN
METHOD:PUBLISH
X-WR-TIMEZONE:UTC
BEGIN:VEVENT
SUMMARY:Easter Sunday - Holy Communion Service
DTSTART:20260405T100000Z
DTEND:20260405T110000Z
DTSTAMP:20260423T115142Z
UID:13043422026-04-05 10:00:00+00:00achurchnearyou
CATEGORIES:
DESCRIPTION:Easter Sunday service with hymns and Holy Communion.
GEO:-2.674327;53.665117
LOCATION:Euxton Parish Church
URL:https://www.achurchnearyou.com/church/11499/service-and-events/events/
 1304342/
END:VEVENT
END:VCALENDAR
