BEGIN:VCALENDAR
VERSION:2.0
PRODID:-//achurchnearyou.com//eventfeed//EN
CALSCALE:GREGORIAN
METHOD:PUBLISH
X-WR-TIMEZONE:UTC
BEGIN:VEVENT
SUMMARY:Book of Common Prayer (BCP) Service
DTSTART;TZID=Europe/London:20260426T084500
DTEND;TZID=Europe/London:20260426T093000
DTSTAMP:20260424T011151Z
UID:7634472026-04-26 08:45:00+01:00achurchnearyou
CATEGORIES:
DESCRIPTION:Our early Sunday service using the tradition and familiar word
 ing of the Book of Common Prayer
GEO:-2.660047;53.719739
LOCATION:St Saviour's\, Bamber Bridge
URL:https://www.achurchnearyou.com/church/11502/service-and-events/events/
 763447/
END:VEVENT
BEGIN:VEVENT
SUMMARY:Book of Common Prayer (BCP) Service
DTSTART;TZID=Europe/London:20260503T084500
DTEND;TZID=Europe/London:20260503T093000
DTSTAMP:20260424T011151Z
UID:7634472026-05-03 08:45:00+01:00achurchnearyou
CATEGORIES:
DESCRIPTION:Our early Sunday service using the tradition and familiar word
 ing of the Book of Common Prayer
GEO:-2.660047;53.719739
LOCATION:St Saviour's\, Bamber Bridge
URL:https://www.achurchnearyou.com/church/11502/service-and-events/events/
 763447/
END:VEVENT
BEGIN:VEVENT
SUMMARY:Book of Common Prayer (BCP) Service
DTSTART;TZID=Europe/London:20260510T084500
DTEND;TZID=Europe/London:20260510T093000
DTSTAMP:20260424T011151Z
UID:7634472026-05-10 08:45:00+01:00achurchnearyou
CATEGORIES:
DESCRIPTION:Our early Sunday service using the tradition and familiar word
 ing of the Book of Common Prayer
GEO:-2.660047;53.719739
LOCATION:St Saviour's\, Bamber Bridge
URL:https://www.achurchnearyou.com/church/11502/service-and-events/events/
 763447/
END:VEVENT
BEGIN:VEVENT
SUMMARY:Book of Common Prayer (BCP) Service
DTSTART;TZID=Europe/London:20260517T084500
DTEND;TZID=Europe/London:20260517T093000
DTSTAMP:20260424T011151Z
UID:7634472026-05-17 08:45:00+01:00achurchnearyou
CATEGORIES:
DESCRIPTION:Our early Sunday service using the tradition and familiar word
 ing of the Book of Common Prayer
GEO:-2.660047;53.719739
LOCATION:St Saviour's\, Bamber Bridge
URL:https://www.achurchnearyou.com/church/11502/service-and-events/events/
 763447/
END:VEVENT
BEGIN:VEVENT
SUMMARY:Book of Common Prayer (BCP) Service
DTSTART;TZID=Europe/London:20260524T084500
DTEND;TZID=Europe/London:20260524T093000
DTSTAMP:20260424T011151Z
UID:7634472026-05-24 08:45:00+01:00achurchnearyou
CATEGORIES:
DESCRIPTION:Our early Sunday service using the tradition and familiar word
 ing of the Book of Common Prayer
GEO:-2.660047;53.719739
LOCATION:St Saviour's\, Bamber Bridge
URL:https://www.achurchnearyou.com/church/11502/service-and-events/events/
 763447/
END:VEVENT
BEGIN:VEVENT
SUMMARY:Book of Common Prayer (BCP) Service
DTSTART;TZID=Europe/London:20260531T084500
DTEND;TZID=Europe/London:20260531T093000
DTSTAMP:20260424T011151Z
UID:7634472026-05-31 08:45:00+01:00achurchnearyou
CATEGORIES:
DESCRIPTION:Our early Sunday service using the tradition and familiar word
 ing of the Book of Common Prayer
GEO:-2.660047;53.719739
LOCATION:St Saviour's\, Bamber Bridge
URL:https://www.achurchnearyou.com/church/11502/service-and-events/events/
 763447/
END:VEVENT
BEGIN:VEVENT
SUMMARY:Book of Common Prayer (BCP) Service
DTSTART;TZID=Europe/London:20260607T084500
DTEND;TZID=Europe/London:20260607T093000
DTSTAMP:20260424T011151Z
UID:7634472026-06-07 08:45:00+01:00achurchnearyou
CATEGORIES:
DESCRIPTION:Our early Sunday service using the tradition and familiar word
 ing of the Book of Common Prayer
GEO:-2.660047;53.719739
LOCATION:St Saviour's\, Bamber Bridge
URL:https://www.achurchnearyou.com/church/11502/service-and-events/events/
 763447/
END:VEVENT
BEGIN:VEVENT
SUMMARY:Book of Common Prayer (BCP) Service
DTSTART;TZID=Europe/London:20260614T084500
DTEND;TZID=Europe/London:20260614T093000
DTSTAMP:20260424T011151Z
UID:7634472026-06-14 08:45:00+01:00achurchnearyou
CATEGORIES:
DESCRIPTION:Our early Sunday service using the tradition and familiar word
 ing of the Book of Common Prayer
GEO:-2.660047;53.719739
LOCATION:St Saviour's\, Bamber Bridge
URL:https://www.achurchnearyou.com/church/11502/service-and-events/events/
 763447/
END:VEVENT
BEGIN:VEVENT
SUMMARY:Book of Common Prayer (BCP) Service
DTSTART;TZID=Europe/London:20260621T084500
DTEND;TZID=Europe/London:20260621T093000
DTSTAMP:20260424T011151Z
UID:7634472026-06-21 08:45:00+01:00achurchnearyou
CATEGORIES:
DESCRIPTION:Our early Sunday service using the tradition and familiar word
 ing of the Book of Common Prayer
GEO:-2.660047;53.719739
LOCATION:St Saviour's\, Bamber Bridge
URL:https://www.achurchnearyou.com/church/11502/service-and-events/events/
 763447/
END:VEVENT
BEGIN:VEVENT
SUMMARY:Book of Common Prayer (BCP) Service
DTSTART;TZID=Europe/London:20260628T084500
DTEND;TZID=Europe/London:20260628T093000
DTSTAMP:20260424T011151Z
UID:7634472026-06-28 08:45:00+01:00achurchnearyou
CATEGORIES:
DESCRIPTION:Our early Sunday service using the tradition and familiar word
 ing of the Book of Common Prayer
GEO:-2.660047;53.719739
LOCATION:St Saviour's\, Bamber Bridge
URL:https://www.achurchnearyou.com/church/11502/service-and-events/events/
 763447/
END:VEVENT
BEGIN:VEVENT
SUMMARY:Book of Common Prayer (BCP) Service
DTSTART;TZID=Europe/London:20260705T084500
DTEND;TZID=Europe/London:20260705T093000
DTSTAMP:20260424T011151Z
UID:7634472026-07-05 08:45:00+01:00achurchnearyou
CATEGORIES:
DESCRIPTION:Our early Sunday service using the tradition and familiar word
 ing of the Book of Common Prayer
GEO:-2.660047;53.719739
LOCATION:St Saviour's\, Bamber Bridge
URL:https://www.achurchnearyou.com/church/11502/service-and-events/events/
 763447/
END:VEVENT
BEGIN:VEVENT
SUMMARY:Book of Common Prayer (BCP) Service
DTSTART;TZID=Europe/London:20260712T084500
DTEND;TZID=Europe/London:20260712T093000
DTSTAMP:20260424T011151Z
UID:7634472026-07-12 08:45:00+01:00achurchnearyou
CATEGORIES:
DESCRIPTION:Our early Sunday service using the tradition and familiar word
 ing of the Book of Common Prayer
GEO:-2.660047;53.719739
LOCATION:St Saviour's\, Bamber Bridge
URL:https://www.achurchnearyou.com/church/11502/service-and-events/events/
 763447/
END:VEVENT
BEGIN:VEVENT
SUMMARY:Book of Common Prayer (BCP) Service
DTSTART;TZID=Europe/London:20260719T084500
DTEND;TZID=Europe/London:20260719T093000
DTSTAMP:20260424T011151Z
UID:7634472026-07-19 08:45:00+01:00achurchnearyou
CATEGORIES:
DESCRIPTION:Our early Sunday service using the tradition and familiar word
 ing of the Book of Common Prayer
GEO:-2.660047;53.719739
LOCATION:St Saviour's\, Bamber Bridge
URL:https://www.achurchnearyou.com/church/11502/service-and-events/events/
 763447/
END:VEVENT
BEGIN:VEVENT
SUMMARY:Book of Common Prayer (BCP) Service
DTSTART;TZID=Europe/London:20260726T084500
DTEND;TZID=Europe/London:20260726T093000
DTSTAMP:20260424T011151Z
UID:7634472026-07-26 08:45:00+01:00achurchnearyou
CATEGORIES:
DESCRIPTION:Our early Sunday service using the tradition and familiar word
 ing of the Book of Common Prayer
GEO:-2.660047;53.719739
LOCATION:St Saviour's\, Bamber Bridge
URL:https://www.achurchnearyou.com/church/11502/service-and-events/events/
 763447/
END:VEVENT
BEGIN:VEVENT
SUMMARY:Book of Common Prayer (BCP) Service
DTSTART;TZID=Europe/London:20260802T084500
DTEND;TZID=Europe/London:20260802T093000
DTSTAMP:20260424T011151Z
UID:7634472026-08-02 08:45:00+01:00achurchnearyou
CATEGORIES:
DESCRIPTION:Our early Sunday service using the tradition and familiar word
 ing of the Book of Common Prayer
GEO:-2.660047;53.719739
LOCATION:St Saviour's\, Bamber Bridge
URL:https://www.achurchnearyou.com/church/11502/service-and-events/events/
 763447/
END:VEVENT
BEGIN:VEVENT
SUMMARY:Book of Common Prayer (BCP) Service
DTSTART;TZID=Europe/London:20260809T084500
DTEND;TZID=Europe/London:20260809T093000
DTSTAMP:20260424T011151Z
UID:7634472026-08-09 08:45:00+01:00achurchnearyou
CATEGORIES:
DESCRIPTION:Our early Sunday service using the tradition and familiar word
 ing of the Book of Common Prayer
GEO:-2.660047;53.719739
LOCATION:St Saviour's\, Bamber Bridge
URL:https://www.achurchnearyou.com/church/11502/service-and-events/events/
 763447/
END:VEVENT
BEGIN:VEVENT
SUMMARY:Book of Common Prayer (BCP) Service
DTSTART;TZID=Europe/London:20260816T084500
DTEND;TZID=Europe/London:20260816T093000
DTSTAMP:20260424T011151Z
UID:7634472026-08-16 08:45:00+01:00achurchnearyou
CATEGORIES:
DESCRIPTION:Our early Sunday service using the tradition and familiar word
 ing of the Book of Common Prayer
GEO:-2.660047;53.719739
LOCATION:St Saviour's\, Bamber Bridge
URL:https://www.achurchnearyou.com/church/11502/service-and-events/events/
 763447/
END:VEVENT
BEGIN:VEVENT
SUMMARY:Book of Common Prayer (BCP) Service
DTSTART;TZID=Europe/London:20260823T084500
DTEND;TZID=Europe/London:20260823T093000
DTSTAMP:20260424T011151Z
UID:7634472026-08-23 08:45:00+01:00achurchnearyou
CATEGORIES:
DESCRIPTION:Our early Sunday service using the tradition and familiar word
 ing of the Book of Common Prayer
GEO:-2.660047;53.719739
LOCATION:St Saviour's\, Bamber Bridge
URL:https://www.achurchnearyou.com/church/11502/service-and-events/events/
 763447/
END:VEVENT
BEGIN:VEVENT
SUMMARY:Book of Common Prayer (BCP) Service
DTSTART;TZID=Europe/London:20260830T084500
DTEND;TZID=Europe/London:20260830T093000
DTSTAMP:20260424T011151Z
UID:7634472026-08-30 08:45:00+01:00achurchnearyou
CATEGORIES:
DESCRIPTION:Our early Sunday service using the tradition and familiar word
 ing of the Book of Common Prayer
GEO:-2.660047;53.719739
LOCATION:St Saviour's\, Bamber Bridge
URL:https://www.achurchnearyou.com/church/11502/service-and-events/events/
 763447/
END:VEVENT
BEGIN:VEVENT
SUMMARY:Book of Common Prayer (BCP) Service
DTSTART;TZID=Europe/London:20260906T084500
DTEND;TZID=Europe/London:20260906T093000
DTSTAMP:20260424T011151Z
UID:7634472026-09-06 08:45:00+01:00achurchnearyou
CATEGORIES:
DESCRIPTION:Our early Sunday service using the tradition and familiar word
 ing of the Book of Common Prayer
GEO:-2.660047;53.719739
LOCATION:St Saviour's\, Bamber Bridge
URL:https://www.achurchnearyou.com/church/11502/service-and-events/events/
 763447/
END:VEVENT
BEGIN:VEVENT
SUMMARY:Book of Common Prayer (BCP) Service
DTSTART;TZID=Europe/London:20260913T084500
DTEND;TZID=Europe/London:20260913T093000
DTSTAMP:20260424T011151Z
UID:7634472026-09-13 08:45:00+01:00achurchnearyou
CATEGORIES:
DESCRIPTION:Our early Sunday service using the tradition and familiar word
 ing of the Book of Common Prayer
GEO:-2.660047;53.719739
LOCATION:St Saviour's\, Bamber Bridge
URL:https://www.achurchnearyou.com/church/11502/service-and-events/events/
 763447/
END:VEVENT
BEGIN:VEVENT
SUMMARY:Book of Common Prayer (BCP) Service
DTSTART;TZID=Europe/London:20260920T084500
DTEND;TZID=Europe/London:20260920T093000
DTSTAMP:20260424T011151Z
UID:7634472026-09-20 08:45:00+01:00achurchnearyou
CATEGORIES:
DESCRIPTION:Our early Sunday service using the tradition and familiar word
 ing of the Book of Common Prayer
GEO:-2.660047;53.719739
LOCATION:St Saviour's\, Bamber Bridge
URL:https://www.achurchnearyou.com/church/11502/service-and-events/events/
 763447/
END:VEVENT
BEGIN:VEVENT
SUMMARY:Book of Common Prayer (BCP) Service
DTSTART;TZID=Europe/London:20260927T084500
DTEND;TZID=Europe/London:20260927T093000
DTSTAMP:20260424T011151Z
UID:7634472026-09-27 08:45:00+01:00achurchnearyou
CATEGORIES:
DESCRIPTION:Our early Sunday service using the tradition and familiar word
 ing of the Book of Common Prayer
GEO:-2.660047;53.719739
LOCATION:St Saviour's\, Bamber Bridge
URL:https://www.achurchnearyou.com/church/11502/service-and-events/events/
 763447/
END:VEVENT
BEGIN:VEVENT
SUMMARY:Book of Common Prayer (BCP) Service
DTSTART;TZID=Europe/London:20261004T084500
DTEND;TZID=Europe/London:20261004T093000
DTSTAMP:20260424T011151Z
UID:7634472026-10-04 08:45:00+01:00achurchnearyou
CATEGORIES:
DESCRIPTION:Our early Sunday service using the tradition and familiar word
 ing of the Book of Common Prayer
GEO:-2.660047;53.719739
LOCATION:St Saviour's\, Bamber Bridge
URL:https://www.achurchnearyou.com/church/11502/service-and-events/events/
 763447/
END:VEVENT
BEGIN:VEVENT
SUMMARY:Book of Common Prayer (BCP) Service
DTSTART;TZID=Europe/London:20261011T084500
DTEND;TZID=Europe/London:20261011T093000
DTSTAMP:20260424T011151Z
UID:7634472026-10-11 08:45:00+01:00achurchnearyou
CATEGORIES:
DESCRIPTION:Our early Sunday service using the tradition and familiar word
 ing of the Book of Common Prayer
GEO:-2.660047;53.719739
LOCATION:St Saviour's\, Bamber Bridge
URL:https://www.achurchnearyou.com/church/11502/service-and-events/events/
 763447/
END:VEVENT
BEGIN:VEVENT
SUMMARY:Book of Common Prayer (BCP) Service
DTSTART;TZID=Europe/London:20261018T084500
DTEND;TZID=Europe/London:20261018T093000
DTSTAMP:20260424T011151Z
UID:7634472026-10-18 08:45:00+01:00achurchnearyou
CATEGORIES:
DESCRIPTION:Our early Sunday service using the tradition and familiar word
 ing of the Book of Common Prayer
GEO:-2.660047;53.719739
LOCATION:St Saviour's\, Bamber Bridge
URL:https://www.achurchnearyou.com/church/11502/service-and-events/events/
 763447/
END:VEVENT
BEGIN:VEVENT
SUMMARY:Book of Common Prayer (BCP) Service
DTSTART;TZID=Europe/London:20261025T084500
DTEND;TZID=Europe/London:20261025T093000
DTSTAMP:20260424T011151Z
UID:7634472026-10-25 08:45:00+00:00achurchnearyou
CATEGORIES:
DESCRIPTION:Our early Sunday service using the tradition and familiar word
 ing of the Book of Common Prayer
GEO:-2.660047;53.719739
LOCATION:St Saviour's\, Bamber Bridge
URL:https://www.achurchnearyou.com/church/11502/service-and-events/events/
 763447/
END:VEVENT
BEGIN:VEVENT
SUMMARY:Book of Common Prayer (BCP) Service
DTSTART;TZID=Europe/London:20261101T084500
DTEND;TZID=Europe/London:20261101T093000
DTSTAMP:20260424T011151Z
UID:7634472026-11-01 08:45:00+00:00achurchnearyou
CATEGORIES:
DESCRIPTION:Our early Sunday service using the tradition and familiar word
 ing of the Book of Common Prayer
GEO:-2.660047;53.719739
LOCATION:St Saviour's\, Bamber Bridge
URL:https://www.achurchnearyou.com/church/11502/service-and-events/events/
 763447/
END:VEVENT
BEGIN:VEVENT
SUMMARY:Book of Common Prayer (BCP) Service
DTSTART;TZID=Europe/London:20261108T084500
DTEND;TZID=Europe/London:20261108T093000
DTSTAMP:20260424T011151Z
UID:7634472026-11-08 08:45:00+00:00achurchnearyou
CATEGORIES:
DESCRIPTION:Our early Sunday service using the tradition and familiar word
 ing of the Book of Common Prayer
GEO:-2.660047;53.719739
LOCATION:St Saviour's\, Bamber Bridge
URL:https://www.achurchnearyou.com/church/11502/service-and-events/events/
 763447/
END:VEVENT
BEGIN:VEVENT
SUMMARY:Book of Common Prayer (BCP) Service
DTSTART;TZID=Europe/London:20261115T084500
DTEND;TZID=Europe/London:20261115T093000
DTSTAMP:20260424T011151Z
UID:7634472026-11-15 08:45:00+00:00achurchnearyou
CATEGORIES:
DESCRIPTION:Our early Sunday service using the tradition and familiar word
 ing of the Book of Common Prayer
GEO:-2.660047;53.719739
LOCATION:St Saviour's\, Bamber Bridge
URL:https://www.achurchnearyou.com/church/11502/service-and-events/events/
 763447/
END:VEVENT
BEGIN:VEVENT
SUMMARY:Book of Common Prayer (BCP) Service
DTSTART;TZID=Europe/London:20261122T084500
DTEND;TZID=Europe/London:20261122T093000
DTSTAMP:20260424T011151Z
UID:7634472026-11-22 08:45:00+00:00achurchnearyou
CATEGORIES:
DESCRIPTION:Our early Sunday service using the tradition and familiar word
 ing of the Book of Common Prayer
GEO:-2.660047;53.719739
LOCATION:St Saviour's\, Bamber Bridge
URL:https://www.achurchnearyou.com/church/11502/service-and-events/events/
 763447/
END:VEVENT
BEGIN:VEVENT
SUMMARY:Book of Common Prayer (BCP) Service
DTSTART;TZID=Europe/London:20261129T084500
DTEND;TZID=Europe/London:20261129T093000
DTSTAMP:20260424T011151Z
UID:7634472026-11-29 08:45:00+00:00achurchnearyou
CATEGORIES:
DESCRIPTION:Our early Sunday service using the tradition and familiar word
 ing of the Book of Common Prayer
GEO:-2.660047;53.719739
LOCATION:St Saviour's\, Bamber Bridge
URL:https://www.achurchnearyou.com/church/11502/service-and-events/events/
 763447/
END:VEVENT
BEGIN:VEVENT
SUMMARY:Book of Common Prayer (BCP) Service
DTSTART;TZID=Europe/London:20261206T084500
DTEND;TZID=Europe/London:20261206T093000
DTSTAMP:20260424T011151Z
UID:7634472026-12-06 08:45:00+00:00achurchnearyou
CATEGORIES:
DESCRIPTION:Our early Sunday service using the tradition and familiar word
 ing of the Book of Common Prayer
GEO:-2.660047;53.719739
LOCATION:St Saviour's\, Bamber Bridge
URL:https://www.achurchnearyou.com/church/11502/service-and-events/events/
 763447/
END:VEVENT
BEGIN:VEVENT
SUMMARY:Book of Common Prayer (BCP) Service
DTSTART;TZID=Europe/London:20261213T084500
DTEND;TZID=Europe/London:20261213T093000
DTSTAMP:20260424T011151Z
UID:7634472026-12-13 08:45:00+00:00achurchnearyou
CATEGORIES:
DESCRIPTION:Our early Sunday service using the tradition and familiar word
 ing of the Book of Common Prayer
GEO:-2.660047;53.719739
LOCATION:St Saviour's\, Bamber Bridge
URL:https://www.achurchnearyou.com/church/11502/service-and-events/events/
 763447/
END:VEVENT
BEGIN:VEVENT
SUMMARY:Book of Common Prayer (BCP) Service
DTSTART;TZID=Europe/London:20261220T084500
DTEND;TZID=Europe/London:20261220T093000
DTSTAMP:20260424T011151Z
UID:7634472026-12-20 08:45:00+00:00achurchnearyou
CATEGORIES:
DESCRIPTION:Our early Sunday service using the tradition and familiar word
 ing of the Book of Common Prayer
GEO:-2.660047;53.719739
LOCATION:St Saviour's\, Bamber Bridge
URL:https://www.achurchnearyou.com/church/11502/service-and-events/events/
 763447/
END:VEVENT
BEGIN:VEVENT
SUMMARY:Book of Common Prayer (BCP) Service
DTSTART;TZID=Europe/London:20261227T084500
DTEND;TZID=Europe/London:20261227T093000
DTSTAMP:20260424T011151Z
UID:7634472026-12-27 08:45:00+00:00achurchnearyou
CATEGORIES:
DESCRIPTION:Our early Sunday service using the tradition and familiar word
 ing of the Book of Common Prayer
GEO:-2.660047;53.719739
LOCATION:St Saviour's\, Bamber Bridge
URL:https://www.achurchnearyou.com/church/11502/service-and-events/events/
 763447/
END:VEVENT
BEGIN:VEVENT
SUMMARY:Book of Common Prayer (BCP) Service
DTSTART;TZID=Europe/London:20270103T084500
DTEND;TZID=Europe/London:20270103T093000
DTSTAMP:20260424T011151Z
UID:7634472027-01-03 08:45:00+00:00achurchnearyou
CATEGORIES:
DESCRIPTION:Our early Sunday service using the tradition and familiar word
 ing of the Book of Common Prayer
GEO:-2.660047;53.719739
LOCATION:St Saviour's\, Bamber Bridge
URL:https://www.achurchnearyou.com/church/11502/service-and-events/events/
 763447/
END:VEVENT
BEGIN:VEVENT
SUMMARY:Book of Common Prayer (BCP) Service
DTSTART;TZID=Europe/London:20270110T084500
DTEND;TZID=Europe/London:20270110T093000
DTSTAMP:20260424T011151Z
UID:7634472027-01-10 08:45:00+00:00achurchnearyou
CATEGORIES:
DESCRIPTION:Our early Sunday service using the tradition and familiar word
 ing of the Book of Common Prayer
GEO:-2.660047;53.719739
LOCATION:St Saviour's\, Bamber Bridge
URL:https://www.achurchnearyou.com/church/11502/service-and-events/events/
 763447/
END:VEVENT
BEGIN:VEVENT
SUMMARY:Book of Common Prayer (BCP) Service
DTSTART;TZID=Europe/London:20270117T084500
DTEND;TZID=Europe/London:20270117T093000
DTSTAMP:20260424T011151Z
UID:7634472027-01-17 08:45:00+00:00achurchnearyou
CATEGORIES:
DESCRIPTION:Our early Sunday service using the tradition and familiar word
 ing of the Book of Common Prayer
GEO:-2.660047;53.719739
LOCATION:St Saviour's\, Bamber Bridge
URL:https://www.achurchnearyou.com/church/11502/service-and-events/events/
 763447/
END:VEVENT
BEGIN:VEVENT
SUMMARY:Book of Common Prayer (BCP) Service
DTSTART;TZID=Europe/London:20270124T084500
DTEND;TZID=Europe/London:20270124T093000
DTSTAMP:20260424T011151Z
UID:7634472027-01-24 08:45:00+00:00achurchnearyou
CATEGORIES:
DESCRIPTION:Our early Sunday service using the tradition and familiar word
 ing of the Book of Common Prayer
GEO:-2.660047;53.719739
LOCATION:St Saviour's\, Bamber Bridge
URL:https://www.achurchnearyou.com/church/11502/service-and-events/events/
 763447/
END:VEVENT
BEGIN:VEVENT
SUMMARY:Book of Common Prayer (BCP) Service
DTSTART;TZID=Europe/London:20270131T084500
DTEND;TZID=Europe/London:20270131T093000
DTSTAMP:20260424T011151Z
UID:7634472027-01-31 08:45:00+00:00achurchnearyou
CATEGORIES:
DESCRIPTION:Our early Sunday service using the tradition and familiar word
 ing of the Book of Common Prayer
GEO:-2.660047;53.719739
LOCATION:St Saviour's\, Bamber Bridge
URL:https://www.achurchnearyou.com/church/11502/service-and-events/events/
 763447/
END:VEVENT
BEGIN:VEVENT
SUMMARY:Book of Common Prayer (BCP) Service
DTSTART;TZID=Europe/London:20270207T084500
DTEND;TZID=Europe/London:20270207T093000
DTSTAMP:20260424T011151Z
UID:7634472027-02-07 08:45:00+00:00achurchnearyou
CATEGORIES:
DESCRIPTION:Our early Sunday service using the tradition and familiar word
 ing of the Book of Common Prayer
GEO:-2.660047;53.719739
LOCATION:St Saviour's\, Bamber Bridge
URL:https://www.achurchnearyou.com/church/11502/service-and-events/events/
 763447/
END:VEVENT
BEGIN:VEVENT
SUMMARY:Book of Common Prayer (BCP) Service
DTSTART;TZID=Europe/London:20270214T084500
DTEND;TZID=Europe/London:20270214T093000
DTSTAMP:20260424T011151Z
UID:7634472027-02-14 08:45:00+00:00achurchnearyou
CATEGORIES:
DESCRIPTION:Our early Sunday service using the tradition and familiar word
 ing of the Book of Common Prayer
GEO:-2.660047;53.719739
LOCATION:St Saviour's\, Bamber Bridge
URL:https://www.achurchnearyou.com/church/11502/service-and-events/events/
 763447/
END:VEVENT
BEGIN:VEVENT
SUMMARY:Book of Common Prayer (BCP) Service
DTSTART;TZID=Europe/London:20270221T084500
DTEND;TZID=Europe/London:20270221T093000
DTSTAMP:20260424T011151Z
UID:7634472027-02-21 08:45:00+00:00achurchnearyou
CATEGORIES:
DESCRIPTION:Our early Sunday service using the tradition and familiar word
 ing of the Book of Common Prayer
GEO:-2.660047;53.719739
LOCATION:St Saviour's\, Bamber Bridge
URL:https://www.achurchnearyou.com/church/11502/service-and-events/events/
 763447/
END:VEVENT
BEGIN:VEVENT
SUMMARY:Book of Common Prayer (BCP) Service
DTSTART;TZID=Europe/London:20270228T084500
DTEND;TZID=Europe/London:20270228T093000
DTSTAMP:20260424T011151Z
UID:7634472027-02-28 08:45:00+00:00achurchnearyou
CATEGORIES:
DESCRIPTION:Our early Sunday service using the tradition and familiar word
 ing of the Book of Common Prayer
GEO:-2.660047;53.719739
LOCATION:St Saviour's\, Bamber Bridge
URL:https://www.achurchnearyou.com/church/11502/service-and-events/events/
 763447/
END:VEVENT
BEGIN:VEVENT
SUMMARY:Book of Common Prayer (BCP) Service
DTSTART;TZID=Europe/London:20270307T084500
DTEND;TZID=Europe/London:20270307T093000
DTSTAMP:20260424T011151Z
UID:7634472027-03-07 08:45:00+00:00achurchnearyou
CATEGORIES:
DESCRIPTION:Our early Sunday service using the tradition and familiar word
 ing of the Book of Common Prayer
GEO:-2.660047;53.719739
LOCATION:St Saviour's\, Bamber Bridge
URL:https://www.achurchnearyou.com/church/11502/service-and-events/events/
 763447/
END:VEVENT
BEGIN:VEVENT
SUMMARY:Book of Common Prayer (BCP) Service
DTSTART;TZID=Europe/London:20270314T084500
DTEND;TZID=Europe/London:20270314T093000
DTSTAMP:20260424T011151Z
UID:7634472027-03-14 08:45:00+00:00achurchnearyou
CATEGORIES:
DESCRIPTION:Our early Sunday service using the tradition and familiar word
 ing of the Book of Common Prayer
GEO:-2.660047;53.719739
LOCATION:St Saviour's\, Bamber Bridge
URL:https://www.achurchnearyou.com/church/11502/service-and-events/events/
 763447/
END:VEVENT
BEGIN:VEVENT
SUMMARY:Book of Common Prayer (BCP) Service
DTSTART;TZID=Europe/London:20270321T084500
DTEND;TZID=Europe/London:20270321T093000
DTSTAMP:20260424T011151Z
UID:7634472027-03-21 08:45:00+00:00achurchnearyou
CATEGORIES:
DESCRIPTION:Our early Sunday service using the tradition and familiar word
 ing of the Book of Common Prayer
GEO:-2.660047;53.719739
LOCATION:St Saviour's\, Bamber Bridge
URL:https://www.achurchnearyou.com/church/11502/service-and-events/events/
 763447/
END:VEVENT
BEGIN:VEVENT
SUMMARY:Book of Common Prayer (BCP) Service
DTSTART;TZID=Europe/London:20270328T084500
DTEND;TZID=Europe/London:20270328T093000
DTSTAMP:20260424T011151Z
UID:7634472027-03-28 08:45:00+01:00achurchnearyou
CATEGORIES:
DESCRIPTION:Our early Sunday service using the tradition and familiar word
 ing of the Book of Common Prayer
GEO:-2.660047;53.719739
LOCATION:St Saviour's\, Bamber Bridge
URL:https://www.achurchnearyou.com/church/11502/service-and-events/events/
 763447/
END:VEVENT
BEGIN:VEVENT
SUMMARY:Book of Common Prayer (BCP) Service
DTSTART;TZID=Europe/London:20270404T084500
DTEND;TZID=Europe/London:20270404T093000
DTSTAMP:20260424T011151Z
UID:7634472027-04-04 08:45:00+01:00achurchnearyou
CATEGORIES:
DESCRIPTION:Our early Sunday service using the tradition and familiar word
 ing of the Book of Common Prayer
GEO:-2.660047;53.719739
LOCATION:St Saviour's\, Bamber Bridge
URL:https://www.achurchnearyou.com/church/11502/service-and-events/events/
 763447/
END:VEVENT
BEGIN:VEVENT
SUMMARY:Book of Common Prayer (BCP) Service
DTSTART;TZID=Europe/London:20270411T084500
DTEND;TZID=Europe/London:20270411T093000
DTSTAMP:20260424T011151Z
UID:7634472027-04-11 08:45:00+01:00achurchnearyou
CATEGORIES:
DESCRIPTION:Our early Sunday service using the tradition and familiar word
 ing of the Book of Common Prayer
GEO:-2.660047;53.719739
LOCATION:St Saviour's\, Bamber Bridge
URL:https://www.achurchnearyou.com/church/11502/service-and-events/events/
 763447/
END:VEVENT
BEGIN:VEVENT
SUMMARY:Book of Common Prayer (BCP) Service
DTSTART;TZID=Europe/London:20270418T084500
DTEND;TZID=Europe/London:20270418T093000
DTSTAMP:20260424T011151Z
UID:7634472027-04-18 08:45:00+01:00achurchnearyou
CATEGORIES:
DESCRIPTION:Our early Sunday service using the tradition and familiar word
 ing of the Book of Common Prayer
GEO:-2.660047;53.719739
LOCATION:St Saviour's\, Bamber Bridge
URL:https://www.achurchnearyou.com/church/11502/service-and-events/events/
 763447/
END:VEVENT
END:VCALENDAR
