BEGIN:VCALENDAR
VERSION:2.0
PRODID:-//achurchnearyou.com//eventfeed//EN
CALSCALE:GREGORIAN
METHOD:PUBLISH
X-WR-TIMEZONE:UTC
BEGIN:VEVENT
SUMMARY:Good Friday for Everyone
DTSTART:20260403T093000Z
DTEND:20260403T103000Z
DTSTAMP:20260422T203311Z
UID:7723382026-04-03 09:30:00+00:00achurchnearyou
CATEGORIES:
DESCRIPTION:A Good Friday service for all ages.
GEO:-2.696521;53.688794
LOCATION:St Andrew's Leyland
URL:https://standrewsleyland.org.uk/
END:VEVENT
END:VCALENDAR
