BEGIN:VCALENDAR
VERSION:2.0
PRODID:-//achurchnearyou.com//eventfeed//EN
CALSCALE:GREGORIAN
METHOD:PUBLISH
X-WR-TIMEZONE:UTC
BEGIN:VEVENT
SUMMARY:PCC Meeting
DTSTART:20250923T181500Z
DTEND:20250923T193000Z
DTSTAMP:20260420T230928Z
UID:11944352025-09-23 18:15:00+00:00achurchnearyou
CATEGORIES:
DESCRIPTION:A meeting of the elected PCC members\, Churchwardens and Clerg
 y.\nThe meeting takes place in our Small Hall.
GEO:-2.714149;53.738571
LOCATION:St Leonard’s Church Penwortham
URL:https://www.achurchnearyou.com/church/11515/service-and-events/events/
 1194435/
END:VEVENT
END:VCALENDAR
