BEGIN:VCALENDAR
VERSION:2.0
PRODID:-//achurchnearyou.com//eventfeed//EN
CALSCALE:GREGORIAN
METHOD:PUBLISH
X-WR-TIMEZONE:UTC
BEGIN:VEVENT
SUMMARY:Holy Communion & Imposition of Ashes
DTSTART:20260218T190000Z
DTEND:20260218T200000Z
DTSTAMP:20260420T090119Z
UID:5521932026-02-18 19:00:00+00:00achurchnearyou
CATEGORIES:
DESCRIPTION:Sung Holy Communion with the imposition of Ashes (if you would
  like it)\nThe service sheet is attached for you to read at home or bring 
 to church.
GEO:-2.714149;53.738571
LOCATION:St Leonard’s Church Penwortham
URL:https://www.achurchnearyou.com/church/11515/service-and-events/events/
 552193/
END:VEVENT
END:VCALENDAR
