BEGIN:VCALENDAR
VERSION:2.0
PRODID:-//achurchnearyou.com//eventfeed//EN
CALSCALE:GREGORIAN
METHOD:PUBLISH
X-WR-TIMEZONE:UTC
BEGIN:VEVENT
SUMMARY:Blessing of Palms & Eucharist
DTSTART:20250413T090000Z
DTEND:20250413T100000Z
DTSTAMP:20260421T084639Z
UID:7308572025-04-13 09:00:00+00:00achurchnearyou
CATEGORIES:
DESCRIPTION:We begin our journey through Holy Week remembering Jesus' entr
 y into Jerusalem\, welcomed by the crowd with hope and expectation. Voices
  that would change tone as the week progresses.\nOur Palm Crosses are bles
 sed for us to take home to encourage us in the weeks ahead of our commitme
 nt to following Jesus.
GEO:-2.714149;53.738571
LOCATION:St Leonard’s Church Penwortham
URL:https://www.achurchnearyou.com/church/11515/service-and-events/events/
 730857/
END:VEVENT
END:VCALENDAR
