BEGIN:VCALENDAR
VERSION:2.0
PRODID:-//achurchnearyou.com//eventfeed//EN
CALSCALE:GREGORIAN
METHOD:PUBLISH
X-WR-TIMEZONE:UTC
BEGIN:VEVENT
SUMMARY:Ash Wednesday - Ashing & Sung Eucharist
DTSTART:20250305T190000Z
DTEND:20250305T200000Z
DTSTAMP:20260426T034802Z
UID:11608352025-03-05 19:00:00+00:00achurchnearyou
CATEGORIES:
DESCRIPTION:An Ash Wednesday  Service of  Ashing \, with a  Sung Eucharist
GEO:-2.811869;53.63506
LOCATION:St Mary the Virgin
URL:https://www.achurchnearyou.com/church/11516/service-and-events/events/
 1160835/
END:VEVENT
END:VCALENDAR
