BEGIN:VCALENDAR
VERSION:2.0
PRODID:-//achurchnearyou.com//eventfeed//EN
CALSCALE:GREGORIAN
METHOD:PUBLISH
X-WR-TIMEZONE:UTC
BEGIN:VEVENT
SUMMARY:Good Friday Liturgy
DTSTART:20250417T130000Z
DTEND:20250417T140000Z
DTSTAMP:20260420T112656Z
UID:11860082025-04-17 13:00:00+00:00achurchnearyou
CATEGORIES:
DESCRIPTION:A special service to mark Good Friday
GEO:-2.136658;53.843149
LOCATION:St Mary the Virgin\, Trawden
URL:https://www.achurchnearyou.com/church/11526/service-and-events/events/
 1186008/
END:VEVENT
END:VCALENDAR
