BEGIN:VCALENDAR
VERSION:2.0
PRODID:-//achurchnearyou.com//eventfeed//EN
CALSCALE:GREGORIAN
METHOD:PUBLISH
X-WR-TIMEZONE:UTC
BEGIN:VEVENT
SUMMARY:Trawden Show - no service in Church
DTSTART:20250810T090000Z
DTEND:20250810T150000Z
DTSTAMP:20260420T040521Z
UID:12170252025-08-10 09:00:00+00:00achurchnearyou
CATEGORIES:
DESCRIPTION:Join us on the Showground for an animal blessing at 10am.  thr
 oughout the day we have a gazebo and do join us for a sit down and free ch
 ildren's craft activities
GEO:-2.136658;53.843149
LOCATION:St Mary the Virgin\, Trawden
URL:https://www.achurchnearyou.com/church/11526/service-and-events/events/
 1217025/
END:VEVENT
END:VCALENDAR
