BEGIN:VCALENDAR
VERSION:2.0
PRODID:-//achurchnearyou.com//eventfeed//EN
CALSCALE:GREGORIAN
METHOD:PUBLISH
X-WR-TIMEZONE:UTC
BEGIN:VEVENT
SUMMARY:Easter Worship for Everyone
DTSTART:20250420T093000Z
DTEND:20250420T103000Z
DTSTAMP:20260419T191112Z
UID:11907642025-04-20 09:30:00+00:00achurchnearyou
CATEGORIES:
DESCRIPTION:International worship for all ages including an Easter egg hun
 t
GEO:-2.198972;53.836465
LOCATION:St John's Church Centre
URL:https://www.achurchnearyou.com/church/11531/service-and-events/events/
 1190764/
END:VEVENT
END:VCALENDAR
