BEGIN:VCALENDAR
VERSION:2.0
PRODID:-//achurchnearyou.com//eventfeed//EN
CALSCALE:GREGORIAN
METHOD:PUBLISH
X-WR-TIMEZONE:UTC
BEGIN:VEVENT
SUMMARY:Evensong
DTSTART:20250615T170000Z
DTEND:20250615T180000Z
DTSTAMP:20260420T082946Z
UID:11983932025-06-15 17:00:00+00:00achurchnearyou
CATEGORIES:
DESCRIPTION:Sung evensong in our lovely little church with visiting singer
 s.Rehearsal  for singers\, 16.30pm\, Evensong starts at  18.00
GEO:-2.27053;53.84963
LOCATION:St Mary's Church\, Newchurch in Pendle
URL:https://www.achurchnearyou.com/church/11532/service-and-events/events/
 1198393/
END:VEVENT
END:VCALENDAR
