BEGIN:VCALENDAR
VERSION:2.0
PRODID:-//achurchnearyou.com//eventfeed//EN
CALSCALE:GREGORIAN
METHOD:PUBLISH
X-WR-TIMEZONE:UTC
BEGIN:VEVENT
SUMMARY:Outdoor Forest Church
DTSTART;TZID=Europe/London:20260125T160000
DTEND;TZID=Europe/London:20260125T180000
DTSTAMP:20260420T035634Z
UID:7516532026-01-25 16:00:00+00:00achurchnearyou
CATEGORIES:
DESCRIPTION:Come and join our church family outdoors in our lovely country
 side setting. This will be a really enjoyable activity for all ages and we
  do hope you will be able to join us.  We meet in church first before we g
 o outside and we suggest it would be best to wear comfortable walking shoe
 s and possibly a raincoat.  Hopefully\, we won’t need a raincoat.
GEO:-2.560939;53.785832
LOCATION:St Leonard's Balderstone
URL:https://www.youtube.com/watch?v=b03kHr-nMA8
END:VEVENT
BEGIN:VEVENT
SUMMARY:Outdoor Forest Church
DTSTART;TZID=Europe/London:20260222T160000
DTEND;TZID=Europe/London:20260222T180000
DTSTAMP:20260420T035634Z
UID:7516532026-02-22 16:00:00+00:00achurchnearyou
CATEGORIES:
DESCRIPTION:Come and join our church family outdoors in our lovely country
 side setting. This will be a really enjoyable activity for all ages and we
  do hope you will be able to join us.  We meet in church first before we g
 o outside and we suggest it would be best to wear comfortable walking shoe
 s and possibly a raincoat.  Hopefully\, we won’t need a raincoat.
GEO:-2.560939;53.785832
LOCATION:St Leonard's Balderstone
URL:https://www.youtube.com/watch?v=b03kHr-nMA8
END:VEVENT
BEGIN:VEVENT
SUMMARY:Outdoor Forest Church
DTSTART;TZID=Europe/London:20260322T160000
DTEND;TZID=Europe/London:20260322T180000
DTSTAMP:20260420T035634Z
UID:7516532026-03-22 16:00:00+00:00achurchnearyou
CATEGORIES:
DESCRIPTION:Come and join our church family outdoors in our lovely country
 side setting. This will be a really enjoyable activity for all ages and we
  do hope you will be able to join us.  We meet in church first before we g
 o outside and we suggest it would be best to wear comfortable walking shoe
 s and possibly a raincoat.  Hopefully\, we won’t need a raincoat.
GEO:-2.560939;53.785832
LOCATION:St Leonard's Balderstone
URL:https://www.youtube.com/watch?v=b03kHr-nMA8
END:VEVENT
BEGIN:VEVENT
SUMMARY:Outdoor Forest Church
DTSTART;TZID=Europe/London:20260426T160000
DTEND;TZID=Europe/London:20260426T180000
DTSTAMP:20260420T035634Z
UID:7516532026-04-26 16:00:00+01:00achurchnearyou
CATEGORIES:
DESCRIPTION:Come and join our church family outdoors in our lovely country
 side setting. This will be a really enjoyable activity for all ages and we
  do hope you will be able to join us.  We meet in church first before we g
 o outside and we suggest it would be best to wear comfortable walking shoe
 s and possibly a raincoat.  Hopefully\, we won’t need a raincoat.
GEO:-2.560939;53.785832
LOCATION:St Leonard's Balderstone
URL:https://www.youtube.com/watch?v=b03kHr-nMA8
END:VEVENT
BEGIN:VEVENT
SUMMARY:Outdoor Forest Church
DTSTART;TZID=Europe/London:20260524T160000
DTEND;TZID=Europe/London:20260524T180000
DTSTAMP:20260420T035634Z
UID:7516532026-05-24 16:00:00+01:00achurchnearyou
CATEGORIES:
DESCRIPTION:Come and join our church family outdoors in our lovely country
 side setting. This will be a really enjoyable activity for all ages and we
  do hope you will be able to join us.  We meet in church first before we g
 o outside and we suggest it would be best to wear comfortable walking shoe
 s and possibly a raincoat.  Hopefully\, we won’t need a raincoat.
GEO:-2.560939;53.785832
LOCATION:St Leonard's Balderstone
URL:https://www.youtube.com/watch?v=b03kHr-nMA8
END:VEVENT
BEGIN:VEVENT
SUMMARY:Outdoor Forest Church
DTSTART;TZID=Europe/London:20260628T160000
DTEND;TZID=Europe/London:20260628T180000
DTSTAMP:20260420T035634Z
UID:7516532026-06-28 16:00:00+01:00achurchnearyou
CATEGORIES:
DESCRIPTION:Come and join our church family outdoors in our lovely country
 side setting. This will be a really enjoyable activity for all ages and we
  do hope you will be able to join us.  We meet in church first before we g
 o outside and we suggest it would be best to wear comfortable walking shoe
 s and possibly a raincoat.  Hopefully\, we won’t need a raincoat.
GEO:-2.560939;53.785832
LOCATION:St Leonard's Balderstone
URL:https://www.youtube.com/watch?v=b03kHr-nMA8
END:VEVENT
BEGIN:VEVENT
SUMMARY:Outdoor Forest Church
DTSTART;TZID=Europe/London:20260726T160000
DTEND;TZID=Europe/London:20260726T180000
DTSTAMP:20260420T035634Z
UID:7516532026-07-26 16:00:00+01:00achurchnearyou
CATEGORIES:
DESCRIPTION:Come and join our church family outdoors in our lovely country
 side setting. This will be a really enjoyable activity for all ages and we
  do hope you will be able to join us.  We meet in church first before we g
 o outside and we suggest it would be best to wear comfortable walking shoe
 s and possibly a raincoat.  Hopefully\, we won’t need a raincoat.
GEO:-2.560939;53.785832
LOCATION:St Leonard's Balderstone
URL:https://www.youtube.com/watch?v=b03kHr-nMA8
END:VEVENT
BEGIN:VEVENT
SUMMARY:Outdoor Forest Church
DTSTART;TZID=Europe/London:20260823T160000
DTEND;TZID=Europe/London:20260823T180000
DTSTAMP:20260420T035634Z
UID:7516532026-08-23 16:00:00+01:00achurchnearyou
CATEGORIES:
DESCRIPTION:Come and join our church family outdoors in our lovely country
 side setting. This will be a really enjoyable activity for all ages and we
  do hope you will be able to join us.  We meet in church first before we g
 o outside and we suggest it would be best to wear comfortable walking shoe
 s and possibly a raincoat.  Hopefully\, we won’t need a raincoat.
GEO:-2.560939;53.785832
LOCATION:St Leonard's Balderstone
URL:https://www.youtube.com/watch?v=b03kHr-nMA8
END:VEVENT
BEGIN:VEVENT
SUMMARY:Outdoor Forest Church
DTSTART;TZID=Europe/London:20260927T160000
DTEND;TZID=Europe/London:20260927T180000
DTSTAMP:20260420T035634Z
UID:7516532026-09-27 16:00:00+01:00achurchnearyou
CATEGORIES:
DESCRIPTION:Come and join our church family outdoors in our lovely country
 side setting. This will be a really enjoyable activity for all ages and we
  do hope you will be able to join us.  We meet in church first before we g
 o outside and we suggest it would be best to wear comfortable walking shoe
 s and possibly a raincoat.  Hopefully\, we won’t need a raincoat.
GEO:-2.560939;53.785832
LOCATION:St Leonard's Balderstone
URL:https://www.youtube.com/watch?v=b03kHr-nMA8
END:VEVENT
BEGIN:VEVENT
SUMMARY:Outdoor Forest Church
DTSTART;TZID=Europe/London:20261025T160000
DTEND;TZID=Europe/London:20261025T180000
DTSTAMP:20260420T035634Z
UID:7516532026-10-25 16:00:00+00:00achurchnearyou
CATEGORIES:
DESCRIPTION:Come and join our church family outdoors in our lovely country
 side setting. This will be a really enjoyable activity for all ages and we
  do hope you will be able to join us.  We meet in church first before we g
 o outside and we suggest it would be best to wear comfortable walking shoe
 s and possibly a raincoat.  Hopefully\, we won’t need a raincoat.
GEO:-2.560939;53.785832
LOCATION:St Leonard's Balderstone
URL:https://www.youtube.com/watch?v=b03kHr-nMA8
END:VEVENT
BEGIN:VEVENT
SUMMARY:Outdoor Forest Church
DTSTART;TZID=Europe/London:20261122T160000
DTEND;TZID=Europe/London:20261122T180000
DTSTAMP:20260420T035634Z
UID:7516532026-11-22 16:00:00+00:00achurchnearyou
CATEGORIES:
DESCRIPTION:Come and join our church family outdoors in our lovely country
 side setting. This will be a really enjoyable activity for all ages and we
  do hope you will be able to join us.  We meet in church first before we g
 o outside and we suggest it would be best to wear comfortable walking shoe
 s and possibly a raincoat.  Hopefully\, we won’t need a raincoat.
GEO:-2.560939;53.785832
LOCATION:St Leonard's Balderstone
URL:https://www.youtube.com/watch?v=b03kHr-nMA8
END:VEVENT
BEGIN:VEVENT
SUMMARY:Outdoor Forest Church
DTSTART;TZID=Europe/London:20261227T160000
DTEND;TZID=Europe/London:20261227T180000
DTSTAMP:20260420T035634Z
UID:7516532026-12-27 16:00:00+00:00achurchnearyou
CATEGORIES:
DESCRIPTION:Come and join our church family outdoors in our lovely country
 side setting. This will be a really enjoyable activity for all ages and we
  do hope you will be able to join us.  We meet in church first before we g
 o outside and we suggest it would be best to wear comfortable walking shoe
 s and possibly a raincoat.  Hopefully\, we won’t need a raincoat.
GEO:-2.560939;53.785832
LOCATION:St Leonard's Balderstone
URL:https://www.youtube.com/watch?v=b03kHr-nMA8
END:VEVENT
BEGIN:VEVENT
SUMMARY:Outdoor Forest Church
DTSTART;TZID=Europe/London:20270124T160000
DTEND;TZID=Europe/London:20270124T180000
DTSTAMP:20260420T035634Z
UID:7516532027-01-24 16:00:00+00:00achurchnearyou
CATEGORIES:
DESCRIPTION:Come and join our church family outdoors in our lovely country
 side setting. This will be a really enjoyable activity for all ages and we
  do hope you will be able to join us.  We meet in church first before we g
 o outside and we suggest it would be best to wear comfortable walking shoe
 s and possibly a raincoat.  Hopefully\, we won’t need a raincoat.
GEO:-2.560939;53.785832
LOCATION:St Leonard's Balderstone
URL:https://www.youtube.com/watch?v=b03kHr-nMA8
END:VEVENT
BEGIN:VEVENT
SUMMARY:Outdoor Forest Church
DTSTART;TZID=Europe/London:20270228T160000
DTEND;TZID=Europe/London:20270228T180000
DTSTAMP:20260420T035634Z
UID:7516532027-02-28 16:00:00+00:00achurchnearyou
CATEGORIES:
DESCRIPTION:Come and join our church family outdoors in our lovely country
 side setting. This will be a really enjoyable activity for all ages and we
  do hope you will be able to join us.  We meet in church first before we g
 o outside and we suggest it would be best to wear comfortable walking shoe
 s and possibly a raincoat.  Hopefully\, we won’t need a raincoat.
GEO:-2.560939;53.785832
LOCATION:St Leonard's Balderstone
URL:https://www.youtube.com/watch?v=b03kHr-nMA8
END:VEVENT
BEGIN:VEVENT
SUMMARY:Outdoor Forest Church
DTSTART;TZID=Europe/London:20270328T160000
DTEND;TZID=Europe/London:20270328T180000
DTSTAMP:20260420T035634Z
UID:7516532027-03-28 16:00:00+01:00achurchnearyou
CATEGORIES:
DESCRIPTION:Come and join our church family outdoors in our lovely country
 side setting. This will be a really enjoyable activity for all ages and we
  do hope you will be able to join us.  We meet in church first before we g
 o outside and we suggest it would be best to wear comfortable walking shoe
 s and possibly a raincoat.  Hopefully\, we won’t need a raincoat.
GEO:-2.560939;53.785832
LOCATION:St Leonard's Balderstone
URL:https://www.youtube.com/watch?v=b03kHr-nMA8
END:VEVENT
END:VCALENDAR
