BEGIN:VCALENDAR
VERSION:2.0
PRODID:-//achurchnearyou.com//eventfeed//EN
CALSCALE:GREGORIAN
METHOD:PUBLISH
X-WR-TIMEZONE:UTC
BEGIN:VEVENT
SUMMARY:Funeral of Cecilia Owen
DTSTART:20250704T100000Z
DTEND:20250704T110000Z
DTSTAMP:20260424T144709Z
UID:12084212025-07-04 10:00:00+00:00achurchnearyou
CATEGORIES:
DESCRIPTION:Funeral of Cecilia Owen will be on Friday 4th July 2025 at 11a
 m in church. \nfollowed by an interment at 12 noon at Waddington road ceme
 tery\nThe family have asked - Please join us afterwards in celebrating his
  wonderful life at Low Moor Club.\nPlease open the attachment to show the 
 details of Cecillia final journey that the family have kindly supplied.
GEO:-2.409021;53.869477
LOCATION:St Paul’s Low Moor
URL:https://www.achurchnearyou.com/church/11541/service-and-events/events/
 1208421/
END:VEVENT
END:VCALENDAR
