BEGIN:VCALENDAR
VERSION:2.0
PRODID:-//achurchnearyou.com//eventfeed//EN
CALSCALE:GREGORIAN
METHOD:PUBLISH
X-WR-TIMEZONE:UTC
BEGIN:VEVENT
SUMMARY:Rossendale Male Voice Choir - SOLD OUT
DTSTART:20251026T143000Z
DTEND:20251026T170000Z
DTSTAMP:20260424T074004Z
UID:12186272025-10-26 14:30:00+00:00achurchnearyou
CATEGORIES:
DESCRIPTION:** THIS EVENT IS NOW SOLD OUT**\nAn Unmissable afternoon of Mu
 sic at St Paul’s!\nStraight from the stage of Britain’s Got Talent\, t
 he renowned Rossendale Male Voice Choir is bringing their powerful\, soul-
 stirring performance to our very own St Paul’s Church!\nThis is more tha
 n just a concert – it’s an afternoon of music\, community\, and histor
 y beneath the historic beams of our majestic church.\nTickets now on sale 
 – just £10 each\nYour ticket includes:\n•	A glass of red or white win
 e (or a soft drink if you prefer)\n•	An afternoon of unforgettable live 
 music\n•	The joy of supporting the upkeep of our cherished church buildi
 ng\nEvery ticket sold helps preserve this beautiful space at the heart of 
 our community – so by coming along\, you’re not just enjoying a concer
 t\, you’re making a difference.\nHow to book:\n•	Call  or Text - 07824
  817048\n•	Email stpaulschurch@btinternet.com\n•	Or click "get in touc
 h" on the left hand panel of the page \nQuick Q&A:\n•	Pets welcome? – 
 Yes!\n•	Disabled access & toilets? – Absolutely.\n•	Free parking? 
 – Yes\, right around the church.\n•	Hearing loop & sound system? – F
 ully equipped.\nWant to know more about Rossendale Male Voice choir- Visit
  them at www.rossendalemalevoicechoir.co.uk \nDon’t miss this afternoon 
 – a rousing performance\, a glass in hand\, and a good cause at heart.
GEO:-2.409021;53.869477
LOCATION:St Paul’s Low Moor
URL:https://www.achurchnearyou.com/church/11541/service-and-events/events/
 1218627/
END:VEVENT
END:VCALENDAR
