BEGIN:VCALENDAR
VERSION:2.0
PRODID:-//achurchnearyou.com//eventfeed//EN
CALSCALE:GREGORIAN
METHOD:PUBLISH
X-WR-TIMEZONE:UTC
BEGIN:VEVENT
SUMMARY:Clitheroe Town Band
DTSTART:20251206T140000Z
DTEND:20251206T153000Z
DTSTAMP:20260424T101423Z
UID:12439902025-12-06 14:00:00+00:00achurchnearyou
CATEGORIES:
DESCRIPTION:Saturday 6th December 2025 – 2pm\nSt Paul’s Church\, Low M
 oor\n\nWe’re delighted to welcome the renowned Clitheroe Town Band to St
  Paul’s Church for a special Christmas Concert.\n\nJoin us for a heart-w
 arming afternoon filled with festive favourites\, carols\, and timeless tu
 nes\, performed by one of our town’s most cherished musical ensembles.\n
 Enjoy the rich and vibrant sound of music filling church with the joy and 
 spirit of the season — a perfect way to start your Christmas celebration
 s!\n\nEveryone welcome.\nAdmission £10.00 (includes refreshments).
GEO:-2.409021;53.869477
LOCATION:St Paul’s Low Moor
URL:https://www.achurchnearyou.com/church/11541/service-and-events/events/
 1243990/
END:VEVENT
END:VCALENDAR
