BEGIN:VCALENDAR
VERSION:2.0
PRODID:-//achurchnearyou.com//eventfeed//EN
CALSCALE:GREGORIAN
METHOD:PUBLISH
X-WR-TIMEZONE:UTC
BEGIN:VEVENT
SUMMARY:All Age Worship
DTSTART;TZID=Europe/London:20260426T104500
DTEND;TZID=Europe/London:20260426T104500
DTSTAMP:20260420T094613Z
UID:1434692026-04-26 10:45:00+01:00achurchnearyou
CATEGORIES:
DESCRIPTION:St Bart's All Age Service takes place on the 4th Sunday of the
  month.  It is informal\, creative  and fun for all ages as we worship God
  together. The All Age Service is led by a team of children and adults and
  we serve refreshments for everyone afterwards.
GEO:-2.576427;53.884755
LOCATION:St Bartholomew
URL:https://www.achurchnearyou.com/church/11548/service-and-events/events/
 143469/
END:VEVENT
BEGIN:VEVENT
SUMMARY:All Age Worship
DTSTART;TZID=Europe/London:20260524T104500
DTEND;TZID=Europe/London:20260524T104500
DTSTAMP:20260420T094613Z
UID:1434692026-05-24 10:45:00+01:00achurchnearyou
CATEGORIES:
DESCRIPTION:St Bart's All Age Service takes place on the 4th Sunday of the
  month.  It is informal\, creative  and fun for all ages as we worship God
  together. The All Age Service is led by a team of children and adults and
  we serve refreshments for everyone afterwards.
GEO:-2.576427;53.884755
LOCATION:St Bartholomew
URL:https://www.achurchnearyou.com/church/11548/service-and-events/events/
 143469/
END:VEVENT
BEGIN:VEVENT
SUMMARY:All Age Worship
DTSTART;TZID=Europe/London:20260628T104500
DTEND;TZID=Europe/London:20260628T104500
DTSTAMP:20260420T094613Z
UID:1434692026-06-28 10:45:00+01:00achurchnearyou
CATEGORIES:
DESCRIPTION:St Bart's All Age Service takes place on the 4th Sunday of the
  month.  It is informal\, creative  and fun for all ages as we worship God
  together. The All Age Service is led by a team of children and adults and
  we serve refreshments for everyone afterwards.
GEO:-2.576427;53.884755
LOCATION:St Bartholomew
URL:https://www.achurchnearyou.com/church/11548/service-and-events/events/
 143469/
END:VEVENT
BEGIN:VEVENT
SUMMARY:All Age Worship
DTSTART;TZID=Europe/London:20260726T104500
DTEND;TZID=Europe/London:20260726T104500
DTSTAMP:20260420T094613Z
UID:1434692026-07-26 10:45:00+01:00achurchnearyou
CATEGORIES:
DESCRIPTION:St Bart's All Age Service takes place on the 4th Sunday of the
  month.  It is informal\, creative  and fun for all ages as we worship God
  together. The All Age Service is led by a team of children and adults and
  we serve refreshments for everyone afterwards.
GEO:-2.576427;53.884755
LOCATION:St Bartholomew
URL:https://www.achurchnearyou.com/church/11548/service-and-events/events/
 143469/
END:VEVENT
BEGIN:VEVENT
SUMMARY:All Age Worship
DTSTART;TZID=Europe/London:20260823T104500
DTEND;TZID=Europe/London:20260823T104500
DTSTAMP:20260420T094613Z
UID:1434692026-08-23 10:45:00+01:00achurchnearyou
CATEGORIES:
DESCRIPTION:St Bart's All Age Service takes place on the 4th Sunday of the
  month.  It is informal\, creative  and fun for all ages as we worship God
  together. The All Age Service is led by a team of children and adults and
  we serve refreshments for everyone afterwards.
GEO:-2.576427;53.884755
LOCATION:St Bartholomew
URL:https://www.achurchnearyou.com/church/11548/service-and-events/events/
 143469/
END:VEVENT
BEGIN:VEVENT
SUMMARY:All Age Worship
DTSTART;TZID=Europe/London:20260927T104500
DTEND;TZID=Europe/London:20260927T104500
DTSTAMP:20260420T094613Z
UID:1434692026-09-27 10:45:00+01:00achurchnearyou
CATEGORIES:
DESCRIPTION:St Bart's All Age Service takes place on the 4th Sunday of the
  month.  It is informal\, creative  and fun for all ages as we worship God
  together. The All Age Service is led by a team of children and adults and
  we serve refreshments for everyone afterwards.
GEO:-2.576427;53.884755
LOCATION:St Bartholomew
URL:https://www.achurchnearyou.com/church/11548/service-and-events/events/
 143469/
END:VEVENT
BEGIN:VEVENT
SUMMARY:All Age Worship
DTSTART;TZID=Europe/London:20261025T104500
DTEND;TZID=Europe/London:20261025T104500
DTSTAMP:20260420T094613Z
UID:1434692026-10-25 10:45:00+00:00achurchnearyou
CATEGORIES:
DESCRIPTION:St Bart's All Age Service takes place on the 4th Sunday of the
  month.  It is informal\, creative  and fun for all ages as we worship God
  together. The All Age Service is led by a team of children and adults and
  we serve refreshments for everyone afterwards.
GEO:-2.576427;53.884755
LOCATION:St Bartholomew
URL:https://www.achurchnearyou.com/church/11548/service-and-events/events/
 143469/
END:VEVENT
BEGIN:VEVENT
SUMMARY:All Age Worship
DTSTART;TZID=Europe/London:20261122T104500
DTEND;TZID=Europe/London:20261122T104500
DTSTAMP:20260420T094613Z
UID:1434692026-11-22 10:45:00+00:00achurchnearyou
CATEGORIES:
DESCRIPTION:St Bart's All Age Service takes place on the 4th Sunday of the
  month.  It is informal\, creative  and fun for all ages as we worship God
  together. The All Age Service is led by a team of children and adults and
  we serve refreshments for everyone afterwards.
GEO:-2.576427;53.884755
LOCATION:St Bartholomew
URL:https://www.achurchnearyou.com/church/11548/service-and-events/events/
 143469/
END:VEVENT
BEGIN:VEVENT
SUMMARY:All Age Worship
DTSTART;TZID=Europe/London:20261227T104500
DTEND;TZID=Europe/London:20261227T104500
DTSTAMP:20260420T094613Z
UID:1434692026-12-27 10:45:00+00:00achurchnearyou
CATEGORIES:
DESCRIPTION:St Bart's All Age Service takes place on the 4th Sunday of the
  month.  It is informal\, creative  and fun for all ages as we worship God
  together. The All Age Service is led by a team of children and adults and
  we serve refreshments for everyone afterwards.
GEO:-2.576427;53.884755
LOCATION:St Bartholomew
URL:https://www.achurchnearyou.com/church/11548/service-and-events/events/
 143469/
END:VEVENT
BEGIN:VEVENT
SUMMARY:All Age Worship
DTSTART;TZID=Europe/London:20270124T104500
DTEND;TZID=Europe/London:20270124T104500
DTSTAMP:20260420T094613Z
UID:1434692027-01-24 10:45:00+00:00achurchnearyou
CATEGORIES:
DESCRIPTION:St Bart's All Age Service takes place on the 4th Sunday of the
  month.  It is informal\, creative  and fun for all ages as we worship God
  together. The All Age Service is led by a team of children and adults and
  we serve refreshments for everyone afterwards.
GEO:-2.576427;53.884755
LOCATION:St Bartholomew
URL:https://www.achurchnearyou.com/church/11548/service-and-events/events/
 143469/
END:VEVENT
BEGIN:VEVENT
SUMMARY:All Age Worship
DTSTART;TZID=Europe/London:20270228T104500
DTEND;TZID=Europe/London:20270228T104500
DTSTAMP:20260420T094613Z
UID:1434692027-02-28 10:45:00+00:00achurchnearyou
CATEGORIES:
DESCRIPTION:St Bart's All Age Service takes place on the 4th Sunday of the
  month.  It is informal\, creative  and fun for all ages as we worship God
  together. The All Age Service is led by a team of children and adults and
  we serve refreshments for everyone afterwards.
GEO:-2.576427;53.884755
LOCATION:St Bartholomew
URL:https://www.achurchnearyou.com/church/11548/service-and-events/events/
 143469/
END:VEVENT
BEGIN:VEVENT
SUMMARY:All Age Worship
DTSTART;TZID=Europe/London:20270328T104500
DTEND;TZID=Europe/London:20270328T104500
DTSTAMP:20260420T094613Z
UID:1434692027-03-28 10:45:00+01:00achurchnearyou
CATEGORIES:
DESCRIPTION:St Bart's All Age Service takes place on the 4th Sunday of the
  month.  It is informal\, creative  and fun for all ages as we worship God
  together. The All Age Service is led by a team of children and adults and
  we serve refreshments for everyone afterwards.
GEO:-2.576427;53.884755
LOCATION:St Bartholomew
URL:https://www.achurchnearyou.com/church/11548/service-and-events/events/
 143469/
END:VEVENT
END:VCALENDAR
