BEGIN:VCALENDAR
VERSION:2.0
PRODID:-//achurchnearyou.com//eventfeed//EN
CALSCALE:GREGORIAN
METHOD:PUBLISH
X-WR-TIMEZONE:UTC
BEGIN:VEVENT
SUMMARY:Afternoon Triniteas
DTSTART:20260330T123000Z
DTEND:20260330T140000Z
DTSTAMP:20260423T115406Z
UID:13073432026-03-30 12:30:00+00:00achurchnearyou
CATEGORIES:
DESCRIPTION:Delicious Afternoon Tea followed by short presentation on East
 er by Rev Peter Lillicrap\nRecommended donation £6
GEO:-3.030917;53.831155
LOCATION:St Mark's Church\, Westcliffe Drive\, Layton\, FY3 7HG
URL:https://www.achurchnearyou.com/church/11553/service-and-events/events/
 1307343/
END:VEVENT
END:VCALENDAR
