BEGIN:VCALENDAR
VERSION:2.0
PRODID:-//achurchnearyou.com//eventfeed//EN
CALSCALE:GREGORIAN
METHOD:PUBLISH
X-WR-TIMEZONE:UTC
BEGIN:VEVENT
SUMMARY:Morning Praise
DTSTART;TZID=Europe/London:20260517T093000
DTEND;TZID=Europe/London:20260517T103000
DTSTAMP:20260422T010758Z
UID:6317472026-05-17 09:30:00+01:00achurchnearyou
CATEGORIES:
DESCRIPTION:A service where we go deeper into God's word and look at how t
 o apply this to our lives
GEO:-2.992938;53.818516
LOCATION:St Luke's Church\, Staining\, FY3 OBW
URL:https://www.achurchnearyou.com/church/11556/service-and-events/events/
 631747/
END:VEVENT
BEGIN:VEVENT
SUMMARY:Morning Praise
DTSTART;TZID=Europe/London:20260621T093000
DTEND;TZID=Europe/London:20260621T103000
DTSTAMP:20260422T010758Z
UID:6317472026-06-21 09:30:00+01:00achurchnearyou
CATEGORIES:
DESCRIPTION:A service where we go deeper into God's word and look at how t
 o apply this to our lives
GEO:-2.992938;53.818516
LOCATION:St Luke's Church\, Staining\, FY3 OBW
URL:https://www.achurchnearyou.com/church/11556/service-and-events/events/
 631747/
END:VEVENT
BEGIN:VEVENT
SUMMARY:Morning Praise
DTSTART;TZID=Europe/London:20260719T093000
DTEND;TZID=Europe/London:20260719T103000
DTSTAMP:20260422T010758Z
UID:6317472026-07-19 09:30:00+01:00achurchnearyou
CATEGORIES:
DESCRIPTION:A service where we go deeper into God's word and look at how t
 o apply this to our lives
GEO:-2.992938;53.818516
LOCATION:St Luke's Church\, Staining\, FY3 OBW
URL:https://www.achurchnearyou.com/church/11556/service-and-events/events/
 631747/
END:VEVENT
BEGIN:VEVENT
SUMMARY:Morning Praise
DTSTART;TZID=Europe/London:20260816T093000
DTEND;TZID=Europe/London:20260816T103000
DTSTAMP:20260422T010758Z
UID:6317472026-08-16 09:30:00+01:00achurchnearyou
CATEGORIES:
DESCRIPTION:A service where we go deeper into God's word and look at how t
 o apply this to our lives
GEO:-2.992938;53.818516
LOCATION:St Luke's Church\, Staining\, FY3 OBW
URL:https://www.achurchnearyou.com/church/11556/service-and-events/events/
 631747/
END:VEVENT
BEGIN:VEVENT
SUMMARY:Morning Praise
DTSTART;TZID=Europe/London:20260920T093000
DTEND;TZID=Europe/London:20260920T103000
DTSTAMP:20260422T010758Z
UID:6317472026-09-20 09:30:00+01:00achurchnearyou
CATEGORIES:
DESCRIPTION:A service where we go deeper into God's word and look at how t
 o apply this to our lives
GEO:-2.992938;53.818516
LOCATION:St Luke's Church\, Staining\, FY3 OBW
URL:https://www.achurchnearyou.com/church/11556/service-and-events/events/
 631747/
END:VEVENT
BEGIN:VEVENT
SUMMARY:Morning Praise
DTSTART;TZID=Europe/London:20261018T093000
DTEND;TZID=Europe/London:20261018T103000
DTSTAMP:20260422T010758Z
UID:6317472026-10-18 09:30:00+01:00achurchnearyou
CATEGORIES:
DESCRIPTION:A service where we go deeper into God's word and look at how t
 o apply this to our lives
GEO:-2.992938;53.818516
LOCATION:St Luke's Church\, Staining\, FY3 OBW
URL:https://www.achurchnearyou.com/church/11556/service-and-events/events/
 631747/
END:VEVENT
BEGIN:VEVENT
SUMMARY:Morning Praise
DTSTART;TZID=Europe/London:20261115T093000
DTEND;TZID=Europe/London:20261115T103000
DTSTAMP:20260422T010758Z
UID:6317472026-11-15 09:30:00+00:00achurchnearyou
CATEGORIES:
DESCRIPTION:A service where we go deeper into God's word and look at how t
 o apply this to our lives
GEO:-2.992938;53.818516
LOCATION:St Luke's Church\, Staining\, FY3 OBW
URL:https://www.achurchnearyou.com/church/11556/service-and-events/events/
 631747/
END:VEVENT
BEGIN:VEVENT
SUMMARY:Morning Praise
DTSTART;TZID=Europe/London:20261220T093000
DTEND;TZID=Europe/London:20261220T103000
DTSTAMP:20260422T010758Z
UID:6317472026-12-20 09:30:00+00:00achurchnearyou
CATEGORIES:
DESCRIPTION:A service where we go deeper into God's word and look at how t
 o apply this to our lives
GEO:-2.992938;53.818516
LOCATION:St Luke's Church\, Staining\, FY3 OBW
URL:https://www.achurchnearyou.com/church/11556/service-and-events/events/
 631747/
END:VEVENT
BEGIN:VEVENT
SUMMARY:Morning Praise
DTSTART;TZID=Europe/London:20270117T093000
DTEND;TZID=Europe/London:20270117T103000
DTSTAMP:20260422T010758Z
UID:6317472027-01-17 09:30:00+00:00achurchnearyou
CATEGORIES:
DESCRIPTION:A service where we go deeper into God's word and look at how t
 o apply this to our lives
GEO:-2.992938;53.818516
LOCATION:St Luke's Church\, Staining\, FY3 OBW
URL:https://www.achurchnearyou.com/church/11556/service-and-events/events/
 631747/
END:VEVENT
BEGIN:VEVENT
SUMMARY:Morning Praise
DTSTART;TZID=Europe/London:20270221T093000
DTEND;TZID=Europe/London:20270221T103000
DTSTAMP:20260422T010758Z
UID:6317472027-02-21 09:30:00+00:00achurchnearyou
CATEGORIES:
DESCRIPTION:A service where we go deeper into God's word and look at how t
 o apply this to our lives
GEO:-2.992938;53.818516
LOCATION:St Luke's Church\, Staining\, FY3 OBW
URL:https://www.achurchnearyou.com/church/11556/service-and-events/events/
 631747/
END:VEVENT
BEGIN:VEVENT
SUMMARY:Morning Praise
DTSTART;TZID=Europe/London:20270321T093000
DTEND;TZID=Europe/London:20270321T103000
DTSTAMP:20260422T010758Z
UID:6317472027-03-21 09:30:00+00:00achurchnearyou
CATEGORIES:
DESCRIPTION:A service where we go deeper into God's word and look at how t
 o apply this to our lives
GEO:-2.992938;53.818516
LOCATION:St Luke's Church\, Staining\, FY3 OBW
URL:https://www.achurchnearyou.com/church/11556/service-and-events/events/
 631747/
END:VEVENT
BEGIN:VEVENT
SUMMARY:Morning Praise
DTSTART;TZID=Europe/London:20270418T093000
DTEND;TZID=Europe/London:20270418T103000
DTSTAMP:20260422T010758Z
UID:6317472027-04-18 09:30:00+01:00achurchnearyou
CATEGORIES:
DESCRIPTION:A service where we go deeper into God's word and look at how t
 o apply this to our lives
GEO:-2.992938;53.818516
LOCATION:St Luke's Church\, Staining\, FY3 OBW
URL:https://www.achurchnearyou.com/church/11556/service-and-events/events/
 631747/
END:VEVENT
END:VCALENDAR
