BEGIN:VCALENDAR
VERSION:2.0
PRODID:-//achurchnearyou.com//eventfeed//EN
CALSCALE:GREGORIAN
METHOD:PUBLISH
X-WR-TIMEZONE:UTC
BEGIN:VEVENT
SUMMARY:Morning Worship
DTSTART;TZID=Europe/London:20260510T103000
DTEND;TZID=Europe/London:20260510T111500
DTSTAMP:20260420T223236Z
UID:9583622026-05-10 10:30:00+01:00achurchnearyou
CATEGORIES:
DESCRIPTION:A local team of volunteers lead a relaxed and informal service
  of readings\, prayers\, hymns and a reflection.
GEO:-2.910729;53.930967
LOCATION:St John the Baptist
URL:https://www.achurchnearyou.com/church/11575/service-and-events/events/
 958362/
END:VEVENT
BEGIN:VEVENT
SUMMARY:Morning Worship
DTSTART;TZID=Europe/London:20260614T103000
DTEND;TZID=Europe/London:20260614T111500
DTSTAMP:20260420T223236Z
UID:9583622026-06-14 10:30:00+01:00achurchnearyou
CATEGORIES:
DESCRIPTION:A local team of volunteers lead a relaxed and informal service
  of readings\, prayers\, hymns and a reflection.
GEO:-2.910729;53.930967
LOCATION:St John the Baptist
URL:https://www.achurchnearyou.com/church/11575/service-and-events/events/
 958362/
END:VEVENT
BEGIN:VEVENT
SUMMARY:Morning Worship
DTSTART;TZID=Europe/London:20260712T103000
DTEND;TZID=Europe/London:20260712T111500
DTSTAMP:20260420T223236Z
UID:9583622026-07-12 10:30:00+01:00achurchnearyou
CATEGORIES:
DESCRIPTION:A local team of volunteers lead a relaxed and informal service
  of readings\, prayers\, hymns and a reflection.
GEO:-2.910729;53.930967
LOCATION:St John the Baptist
URL:https://www.achurchnearyou.com/church/11575/service-and-events/events/
 958362/
END:VEVENT
BEGIN:VEVENT
SUMMARY:Morning Worship
DTSTART;TZID=Europe/London:20260809T103000
DTEND;TZID=Europe/London:20260809T111500
DTSTAMP:20260420T223236Z
UID:9583622026-08-09 10:30:00+01:00achurchnearyou
CATEGORIES:
DESCRIPTION:A local team of volunteers lead a relaxed and informal service
  of readings\, prayers\, hymns and a reflection.
GEO:-2.910729;53.930967
LOCATION:St John the Baptist
URL:https://www.achurchnearyou.com/church/11575/service-and-events/events/
 958362/
END:VEVENT
BEGIN:VEVENT
SUMMARY:Morning Worship
DTSTART;TZID=Europe/London:20260913T103000
DTEND;TZID=Europe/London:20260913T111500
DTSTAMP:20260420T223236Z
UID:9583622026-09-13 10:30:00+01:00achurchnearyou
CATEGORIES:
DESCRIPTION:A local team of volunteers lead a relaxed and informal service
  of readings\, prayers\, hymns and a reflection.
GEO:-2.910729;53.930967
LOCATION:St John the Baptist
URL:https://www.achurchnearyou.com/church/11575/service-and-events/events/
 958362/
END:VEVENT
BEGIN:VEVENT
SUMMARY:Morning Worship
DTSTART;TZID=Europe/London:20261011T103000
DTEND;TZID=Europe/London:20261011T111500
DTSTAMP:20260420T223236Z
UID:9583622026-10-11 10:30:00+01:00achurchnearyou
CATEGORIES:
DESCRIPTION:A local team of volunteers lead a relaxed and informal service
  of readings\, prayers\, hymns and a reflection.
GEO:-2.910729;53.930967
LOCATION:St John the Baptist
URL:https://www.achurchnearyou.com/church/11575/service-and-events/events/
 958362/
END:VEVENT
BEGIN:VEVENT
SUMMARY:Morning Worship
DTSTART;TZID=Europe/London:20261108T103000
DTEND;TZID=Europe/London:20261108T111500
DTSTAMP:20260420T223236Z
UID:9583622026-11-08 10:30:00+00:00achurchnearyou
CATEGORIES:
DESCRIPTION:A local team of volunteers lead a relaxed and informal service
  of readings\, prayers\, hymns and a reflection.
GEO:-2.910729;53.930967
LOCATION:St John the Baptist
URL:https://www.achurchnearyou.com/church/11575/service-and-events/events/
 958362/
END:VEVENT
BEGIN:VEVENT
SUMMARY:Morning Worship
DTSTART;TZID=Europe/London:20261213T103000
DTEND;TZID=Europe/London:20261213T111500
DTSTAMP:20260420T223236Z
UID:9583622026-12-13 10:30:00+00:00achurchnearyou
CATEGORIES:
DESCRIPTION:A local team of volunteers lead a relaxed and informal service
  of readings\, prayers\, hymns and a reflection.
GEO:-2.910729;53.930967
LOCATION:St John the Baptist
URL:https://www.achurchnearyou.com/church/11575/service-and-events/events/
 958362/
END:VEVENT
BEGIN:VEVENT
SUMMARY:Morning Worship
DTSTART;TZID=Europe/London:20270110T103000
DTEND;TZID=Europe/London:20270110T111500
DTSTAMP:20260420T223236Z
UID:9583622027-01-10 10:30:00+00:00achurchnearyou
CATEGORIES:
DESCRIPTION:A local team of volunteers lead a relaxed and informal service
  of readings\, prayers\, hymns and a reflection.
GEO:-2.910729;53.930967
LOCATION:St John the Baptist
URL:https://www.achurchnearyou.com/church/11575/service-and-events/events/
 958362/
END:VEVENT
BEGIN:VEVENT
SUMMARY:Morning Worship
DTSTART;TZID=Europe/London:20270214T103000
DTEND;TZID=Europe/London:20270214T111500
DTSTAMP:20260420T223236Z
UID:9583622027-02-14 10:30:00+00:00achurchnearyou
CATEGORIES:
DESCRIPTION:A local team of volunteers lead a relaxed and informal service
  of readings\, prayers\, hymns and a reflection.
GEO:-2.910729;53.930967
LOCATION:St John the Baptist
URL:https://www.achurchnearyou.com/church/11575/service-and-events/events/
 958362/
END:VEVENT
BEGIN:VEVENT
SUMMARY:Morning Worship
DTSTART;TZID=Europe/London:20270314T103000
DTEND;TZID=Europe/London:20270314T111500
DTSTAMP:20260420T223236Z
UID:9583622027-03-14 10:30:00+00:00achurchnearyou
CATEGORIES:
DESCRIPTION:A local team of volunteers lead a relaxed and informal service
  of readings\, prayers\, hymns and a reflection.
GEO:-2.910729;53.930967
LOCATION:St John the Baptist
URL:https://www.achurchnearyou.com/church/11575/service-and-events/events/
 958362/
END:VEVENT
BEGIN:VEVENT
SUMMARY:Morning Worship
DTSTART;TZID=Europe/London:20270411T103000
DTEND;TZID=Europe/London:20270411T111500
DTSTAMP:20260420T223236Z
UID:9583622027-04-11 10:30:00+01:00achurchnearyou
CATEGORIES:
DESCRIPTION:A local team of volunteers lead a relaxed and informal service
  of readings\, prayers\, hymns and a reflection.
GEO:-2.910729;53.930967
LOCATION:St John the Baptist
URL:https://www.achurchnearyou.com/church/11575/service-and-events/events/
 958362/
END:VEVENT
END:VCALENDAR
