BEGIN:VCALENDAR
VERSION:2.0
PRODID:-//achurchnearyou.com//eventfeed//EN
CALSCALE:GREGORIAN
METHOD:PUBLISH
X-WR-TIMEZONE:UTC
BEGIN:VEVENT
SUMMARY:Parish Walk and Picnic
DTSTART:20250720T113000Z
DTEND:20250720T150000Z
DTSTAMP:20260421T225130Z
UID:12093542025-07-20 11:30:00+00:00achurchnearyou
CATEGORIES:
DESCRIPTION:To celebrate St James' Day.  After the 10.30 service.  Walk to
  'Springfield'\, Moss Side Lane.  Bring your own savouries: Drinks and Des
 serts will be provided.
LOCATION:Springfield
URL:https://www.achurchnearyou.com/church/11579/service-and-events/events/
 1209354/
END:VEVENT
END:VCALENDAR
