BEGIN:VCALENDAR
VERSION:2.0
PRODID:-//achurchnearyou.com//eventfeed//EN
CALSCALE:GREGORIAN
METHOD:PUBLISH
X-WR-TIMEZONE:UTC
BEGIN:VEVENT
SUMMARY:Family Fun: Easter Arts and Crafts
DTSTART:20260403T090000Z
DTEND:20260403T110000Z
DTSTAMP:20260421T061616Z
UID:13181792026-04-03 09:00:00+00:00achurchnearyou
CATEGORIES:
DESCRIPTION:A joint SSRA and church event.  Free entry\, refreshments on s
 ale.
GEO:-2.953244;53.902083
LOCATION:Stalmine\, St James church
URL:https://www.achurchnearyou.com/church/11579/service-and-events/events/
 1318179/
END:VEVENT
END:VCALENDAR
