BEGIN:VCALENDAR
VERSION:2.0
PRODID:-//achurchnearyou.com//eventfeed//EN
CALSCALE:GREGORIAN
METHOD:PUBLISH
X-WR-TIMEZONE:UTC
BEGIN:VEVENT
SUMMARY:Crib Service - Very Popular!
DTSTART:20261224T160000Z
DTEND:20261224T164500Z
DTSTAMP:20260421T042051Z
UID:2650762026-12-24 16:00:00+00:00achurchnearyou
CATEGORIES:
DESCRIPTION:Informal\, aimed at families\, particularly with young childre
 n.
GEO:-2.953244;53.902083
LOCATION:Stalmine\, St James church
URL:https://www.achurchnearyou.com/church/11579/service-and-events/events/
 265076/
END:VEVENT
END:VCALENDAR
