BEGIN:VCALENDAR
VERSION:2.0
PRODID:-//achurchnearyou.com//eventfeed//EN
CALSCALE:GREGORIAN
METHOD:PUBLISH
X-WR-TIMEZONE:UTC
BEGIN:VEVENT
SUMMARY:Remembrance Sunday Commemoration
DTSTART:20261108T103000Z
DTEND:20261108T113000Z
DTSTAMP:20260421T022712Z
UID:3434482026-11-08 10:30:00+00:00achurchnearyou
CATEGORIES:
DESCRIPTION:Traditional Remembrance Sunday service with act of remembrance
 \, two minutes silence\, Last Post and Reveille\, etc.
GEO:-2.953244;53.902083
LOCATION:Stalmine\, St James church
URL:https://www.achurchnearyou.com/church/11579/service-and-events/events/
 343448/
END:VEVENT
END:VCALENDAR
