BEGIN:VCALENDAR
VERSION:2.0
PRODID:-//achurchnearyou.com//eventfeed//EN
CALSCALE:GREGORIAN
METHOD:PUBLISH
X-WR-TIMEZONE:UTC
BEGIN:VEVENT
SUMMARY:Holy Communion (BCP)
DTSTART;TZID=Europe/London:20260503T081500
DTEND;TZID=Europe/London:20260503T090000
DTSTAMP:20260420T171120Z
UID:12844662026-05-03 08:15:00+01:00achurchnearyou
CATEGORIES:
DESCRIPTION:Church Service
GEO:-2.842712;53.996486
LOCATION:Christ Church\, Glasson
URL:https://www.achurchnearyou.com/church/11587/service-and-events/events/
 1284466/
END:VEVENT
BEGIN:VEVENT
SUMMARY:Holy Communion (BCP)
DTSTART;TZID=Europe/London:20260517T081500
DTEND;TZID=Europe/London:20260517T090000
DTSTAMP:20260420T171120Z
UID:12844662026-05-17 08:15:00+01:00achurchnearyou
CATEGORIES:
DESCRIPTION:Church Service
GEO:-2.842712;53.996486
LOCATION:Christ Church\, Glasson
URL:https://www.achurchnearyou.com/church/11587/service-and-events/events/
 1284466/
END:VEVENT
BEGIN:VEVENT
SUMMARY:Holy Communion (BCP)
DTSTART;TZID=Europe/London:20260607T081500
DTEND;TZID=Europe/London:20260607T090000
DTSTAMP:20260420T171120Z
UID:12844662026-06-07 08:15:00+01:00achurchnearyou
CATEGORIES:
DESCRIPTION:Church Service
GEO:-2.842712;53.996486
LOCATION:Christ Church\, Glasson
URL:https://www.achurchnearyou.com/church/11587/service-and-events/events/
 1284466/
END:VEVENT
BEGIN:VEVENT
SUMMARY:Holy Communion (BCP)
DTSTART;TZID=Europe/London:20260621T081500
DTEND;TZID=Europe/London:20260621T090000
DTSTAMP:20260420T171120Z
UID:12844662026-06-21 08:15:00+01:00achurchnearyou
CATEGORIES:
DESCRIPTION:Church Service
GEO:-2.842712;53.996486
LOCATION:Christ Church\, Glasson
URL:https://www.achurchnearyou.com/church/11587/service-and-events/events/
 1284466/
END:VEVENT
BEGIN:VEVENT
SUMMARY:Holy Communion (BCP)
DTSTART;TZID=Europe/London:20260705T081500
DTEND;TZID=Europe/London:20260705T090000
DTSTAMP:20260420T171120Z
UID:12844662026-07-05 08:15:00+01:00achurchnearyou
CATEGORIES:
DESCRIPTION:Church Service
GEO:-2.842712;53.996486
LOCATION:Christ Church\, Glasson
URL:https://www.achurchnearyou.com/church/11587/service-and-events/events/
 1284466/
END:VEVENT
BEGIN:VEVENT
SUMMARY:Holy Communion (BCP)
DTSTART;TZID=Europe/London:20260719T081500
DTEND;TZID=Europe/London:20260719T090000
DTSTAMP:20260420T171120Z
UID:12844662026-07-19 08:15:00+01:00achurchnearyou
CATEGORIES:
DESCRIPTION:Church Service
GEO:-2.842712;53.996486
LOCATION:Christ Church\, Glasson
URL:https://www.achurchnearyou.com/church/11587/service-and-events/events/
 1284466/
END:VEVENT
BEGIN:VEVENT
SUMMARY:Holy Communion (BCP)
DTSTART;TZID=Europe/London:20260802T081500
DTEND;TZID=Europe/London:20260802T090000
DTSTAMP:20260420T171120Z
UID:12844662026-08-02 08:15:00+01:00achurchnearyou
CATEGORIES:
DESCRIPTION:Church Service
GEO:-2.842712;53.996486
LOCATION:Christ Church\, Glasson
URL:https://www.achurchnearyou.com/church/11587/service-and-events/events/
 1284466/
END:VEVENT
BEGIN:VEVENT
SUMMARY:Holy Communion (BCP)
DTSTART;TZID=Europe/London:20260816T081500
DTEND;TZID=Europe/London:20260816T090000
DTSTAMP:20260420T171120Z
UID:12844662026-08-16 08:15:00+01:00achurchnearyou
CATEGORIES:
DESCRIPTION:Church Service
GEO:-2.842712;53.996486
LOCATION:Christ Church\, Glasson
URL:https://www.achurchnearyou.com/church/11587/service-and-events/events/
 1284466/
END:VEVENT
BEGIN:VEVENT
SUMMARY:Holy Communion (BCP)
DTSTART;TZID=Europe/London:20260906T081500
DTEND;TZID=Europe/London:20260906T090000
DTSTAMP:20260420T171120Z
UID:12844662026-09-06 08:15:00+01:00achurchnearyou
CATEGORIES:
DESCRIPTION:Church Service
GEO:-2.842712;53.996486
LOCATION:Christ Church\, Glasson
URL:https://www.achurchnearyou.com/church/11587/service-and-events/events/
 1284466/
END:VEVENT
BEGIN:VEVENT
SUMMARY:Holy Communion (BCP)
DTSTART;TZID=Europe/London:20260920T081500
DTEND;TZID=Europe/London:20260920T090000
DTSTAMP:20260420T171120Z
UID:12844662026-09-20 08:15:00+01:00achurchnearyou
CATEGORIES:
DESCRIPTION:Church Service
GEO:-2.842712;53.996486
LOCATION:Christ Church\, Glasson
URL:https://www.achurchnearyou.com/church/11587/service-and-events/events/
 1284466/
END:VEVENT
BEGIN:VEVENT
SUMMARY:Holy Communion (BCP)
DTSTART;TZID=Europe/London:20261004T081500
DTEND;TZID=Europe/London:20261004T090000
DTSTAMP:20260420T171120Z
UID:12844662026-10-04 08:15:00+01:00achurchnearyou
CATEGORIES:
DESCRIPTION:Church Service
GEO:-2.842712;53.996486
LOCATION:Christ Church\, Glasson
URL:https://www.achurchnearyou.com/church/11587/service-and-events/events/
 1284466/
END:VEVENT
BEGIN:VEVENT
SUMMARY:Holy Communion (BCP)
DTSTART;TZID=Europe/London:20261018T081500
DTEND;TZID=Europe/London:20261018T090000
DTSTAMP:20260420T171120Z
UID:12844662026-10-18 08:15:00+01:00achurchnearyou
CATEGORIES:
DESCRIPTION:Church Service
GEO:-2.842712;53.996486
LOCATION:Christ Church\, Glasson
URL:https://www.achurchnearyou.com/church/11587/service-and-events/events/
 1284466/
END:VEVENT
BEGIN:VEVENT
SUMMARY:Holy Communion (BCP)
DTSTART;TZID=Europe/London:20261101T081500
DTEND;TZID=Europe/London:20261101T090000
DTSTAMP:20260420T171120Z
UID:12844662026-11-01 08:15:00+00:00achurchnearyou
CATEGORIES:
DESCRIPTION:Church Service
GEO:-2.842712;53.996486
LOCATION:Christ Church\, Glasson
URL:https://www.achurchnearyou.com/church/11587/service-and-events/events/
 1284466/
END:VEVENT
BEGIN:VEVENT
SUMMARY:Holy Communion (BCP)
DTSTART;TZID=Europe/London:20261115T081500
DTEND;TZID=Europe/London:20261115T090000
DTSTAMP:20260420T171120Z
UID:12844662026-11-15 08:15:00+00:00achurchnearyou
CATEGORIES:
DESCRIPTION:Church Service
GEO:-2.842712;53.996486
LOCATION:Christ Church\, Glasson
URL:https://www.achurchnearyou.com/church/11587/service-and-events/events/
 1284466/
END:VEVENT
BEGIN:VEVENT
SUMMARY:Holy Communion (BCP)
DTSTART;TZID=Europe/London:20261206T081500
DTEND;TZID=Europe/London:20261206T090000
DTSTAMP:20260420T171120Z
UID:12844662026-12-06 08:15:00+00:00achurchnearyou
CATEGORIES:
DESCRIPTION:Church Service
GEO:-2.842712;53.996486
LOCATION:Christ Church\, Glasson
URL:https://www.achurchnearyou.com/church/11587/service-and-events/events/
 1284466/
END:VEVENT
BEGIN:VEVENT
SUMMARY:Holy Communion (BCP)
DTSTART;TZID=Europe/London:20261220T081500
DTEND;TZID=Europe/London:20261220T090000
DTSTAMP:20260420T171120Z
UID:12844662026-12-20 08:15:00+00:00achurchnearyou
CATEGORIES:
DESCRIPTION:Church Service
GEO:-2.842712;53.996486
LOCATION:Christ Church\, Glasson
URL:https://www.achurchnearyou.com/church/11587/service-and-events/events/
 1284466/
END:VEVENT
BEGIN:VEVENT
SUMMARY:Holy Communion (BCP)
DTSTART;TZID=Europe/London:20270103T081500
DTEND;TZID=Europe/London:20270103T090000
DTSTAMP:20260420T171120Z
UID:12844662027-01-03 08:15:00+00:00achurchnearyou
CATEGORIES:
DESCRIPTION:Church Service
GEO:-2.842712;53.996486
LOCATION:Christ Church\, Glasson
URL:https://www.achurchnearyou.com/church/11587/service-and-events/events/
 1284466/
END:VEVENT
BEGIN:VEVENT
SUMMARY:Holy Communion (BCP)
DTSTART;TZID=Europe/London:20270117T081500
DTEND;TZID=Europe/London:20270117T090000
DTSTAMP:20260420T171120Z
UID:12844662027-01-17 08:15:00+00:00achurchnearyou
CATEGORIES:
DESCRIPTION:Church Service
GEO:-2.842712;53.996486
LOCATION:Christ Church\, Glasson
URL:https://www.achurchnearyou.com/church/11587/service-and-events/events/
 1284466/
END:VEVENT
BEGIN:VEVENT
SUMMARY:Holy Communion (BCP)
DTSTART;TZID=Europe/London:20270207T081500
DTEND;TZID=Europe/London:20270207T090000
DTSTAMP:20260420T171120Z
UID:12844662027-02-07 08:15:00+00:00achurchnearyou
CATEGORIES:
DESCRIPTION:Church Service
GEO:-2.842712;53.996486
LOCATION:Christ Church\, Glasson
URL:https://www.achurchnearyou.com/church/11587/service-and-events/events/
 1284466/
END:VEVENT
BEGIN:VEVENT
SUMMARY:Holy Communion (BCP)
DTSTART;TZID=Europe/London:20270221T081500
DTEND;TZID=Europe/London:20270221T090000
DTSTAMP:20260420T171120Z
UID:12844662027-02-21 08:15:00+00:00achurchnearyou
CATEGORIES:
DESCRIPTION:Church Service
GEO:-2.842712;53.996486
LOCATION:Christ Church\, Glasson
URL:https://www.achurchnearyou.com/church/11587/service-and-events/events/
 1284466/
END:VEVENT
BEGIN:VEVENT
SUMMARY:Holy Communion (BCP)
DTSTART;TZID=Europe/London:20270307T081500
DTEND;TZID=Europe/London:20270307T090000
DTSTAMP:20260420T171120Z
UID:12844662027-03-07 08:15:00+00:00achurchnearyou
CATEGORIES:
DESCRIPTION:Church Service
GEO:-2.842712;53.996486
LOCATION:Christ Church\, Glasson
URL:https://www.achurchnearyou.com/church/11587/service-and-events/events/
 1284466/
END:VEVENT
BEGIN:VEVENT
SUMMARY:Holy Communion (BCP)
DTSTART;TZID=Europe/London:20270321T081500
DTEND;TZID=Europe/London:20270321T090000
DTSTAMP:20260420T171120Z
UID:12844662027-03-21 08:15:00+00:00achurchnearyou
CATEGORIES:
DESCRIPTION:Church Service
GEO:-2.842712;53.996486
LOCATION:Christ Church\, Glasson
URL:https://www.achurchnearyou.com/church/11587/service-and-events/events/
 1284466/
END:VEVENT
BEGIN:VEVENT
SUMMARY:Holy Communion (BCP)
DTSTART;TZID=Europe/London:20270404T081500
DTEND;TZID=Europe/London:20270404T090000
DTSTAMP:20260420T171120Z
UID:12844662027-04-04 08:15:00+01:00achurchnearyou
CATEGORIES:
DESCRIPTION:Church Service
GEO:-2.842712;53.996486
LOCATION:Christ Church\, Glasson
URL:https://www.achurchnearyou.com/church/11587/service-and-events/events/
 1284466/
END:VEVENT
BEGIN:VEVENT
SUMMARY:Holy Communion (BCP)
DTSTART;TZID=Europe/London:20270418T081500
DTEND;TZID=Europe/London:20270418T090000
DTSTAMP:20260420T171120Z
UID:12844662027-04-18 08:15:00+01:00achurchnearyou
CATEGORIES:
DESCRIPTION:Church Service
GEO:-2.842712;53.996486
LOCATION:Christ Church\, Glasson
URL:https://www.achurchnearyou.com/church/11587/service-and-events/events/
 1284466/
END:VEVENT
END:VCALENDAR
