BEGIN:VCALENDAR
VERSION:2.0
PRODID:-//achurchnearyou.com//eventfeed//EN
CALSCALE:GREGORIAN
METHOD:PUBLISH
X-WR-TIMEZONE:UTC
BEGIN:VEVENT
SUMMARY:Lady Day
DTSTART:20260325T140000Z
DTEND:20260325T150000Z
DTSTAMP:20260420T230755Z
UID:13118612026-03-25 14:00:00+00:00achurchnearyou
CATEGORIES:
DESCRIPTION:Lady Day Service at 2pm
GEO:-2.842712;53.996486
LOCATION:Christ Church\, Glasson
URL:https://www.achurchnearyou.com/church/11587/service-and-events/events/
 1311861/
END:VEVENT
END:VCALENDAR
