BEGIN:VCALENDAR
VERSION:2.0
PRODID:-//achurchnearyou.com//eventfeed//EN
CALSCALE:GREGORIAN
METHOD:PUBLISH
X-WR-TIMEZONE:UTC
BEGIN:VEVENT
SUMMARY:Apple Festival
DTSTART:20250920T110000Z
DTEND:20250920T150000Z
DTSTAMP:20260422T112927Z
UID:12162652025-09-20 11:00:00+00:00achurchnearyou
CATEGORIES:
DESCRIPTION:Join us for an fun afternoon of apple juicing\, music\, entert
 ainment\, stalls and children's activities
GEO:-2.788209;54.045789
LOCATION:Christ Church\, Lancaster
URL:https://www.achurchnearyou.com/church/11591/service-and-events/events/
 1216265/
END:VEVENT
END:VCALENDAR
