BEGIN:VCALENDAR
VERSION:2.0
PRODID:-//achurchnearyou.com//eventfeed//EN
CALSCALE:GREGORIAN
METHOD:PUBLISH
X-WR-TIMEZONE:UTC
BEGIN:VEVENT
SUMMARY:Harvest Festival
DTSTART:20250921T093000Z
DTEND:20250921T103000Z
DTSTAMP:20260422T103207Z
UID:12162672025-09-21 09:30:00+00:00achurchnearyou
CATEGORIES:
DESCRIPTION:Join us for a traditional Harvest Festival\, with a guest spea
 ker sharing news of the Olive Branch Food Bank
GEO:-2.788209;54.045789
LOCATION:Christ Church\, Lancaster
URL:https://www.achurchnearyou.com/church/11591/service-and-events/events/
 1216267/
END:VEVENT
END:VCALENDAR
