BEGIN:VCALENDAR
VERSION:2.0
PRODID:-//achurchnearyou.com//eventfeed//EN
CALSCALE:GREGORIAN
METHOD:PUBLISH
X-WR-TIMEZONE:UTC
BEGIN:VEVENT
SUMMARY:Heritage Open Weekends
DTSTART:20250913T100000Z
DTEND:20250920T140000Z
DTSTAMP:20260422T103546Z
UID:12169992025-09-13 10:00:00+00:00achurchnearyou
CATEGORIES:
DESCRIPTION:Join us for a tour of this unique building - which began life 
 as a chapel for Lancaster's workhouse\, and is now home to a thriving comm
 unity.
GEO:-2.788209;54.045789
LOCATION:Christ Church\, Lancaster
URL:https://www.achurchnearyou.com/church/11591/service-and-events/events/
 1216999/
END:VEVENT
END:VCALENDAR
