BEGIN:VCALENDAR
VERSION:2.0
PRODID:-//achurchnearyou.com//eventfeed//EN
CALSCALE:GREGORIAN
METHOD:PUBLISH
X-WR-TIMEZONE:UTC
BEGIN:VEVENT
SUMMARY:All Hallows Tide
DTSTART:20251101T160000Z
DTEND:20251101T183000Z
DTSTAMP:20260420T062949Z
UID:12246862025-11-01 16:00:00+00:00achurchnearyou
CATEGORIES:
DESCRIPTION:A fun\, non-scary family event to share the light of Christ an
 d celebrate the changing seasons
GEO:-2.788209;54.045789
LOCATION:Christ Church\, Lancaster
URL:https://www.achurchnearyou.com/church/11591/service-and-events/events/
 1224686/
END:VEVENT
END:VCALENDAR
