BEGIN:VCALENDAR
VERSION:2.0
PRODID:-//achurchnearyou.com//eventfeed//EN
CALSCALE:GREGORIAN
METHOD:PUBLISH
X-WR-TIMEZONE:UTC
BEGIN:VEVENT
SUMMARY:Christ the King - Confirmation Service
DTSTART:20251123T103000Z
DTEND:20251123T113000Z
DTSTAMP:20260420T062907Z
UID:12455302025-11-23 10:30:00+00:00achurchnearyou
CATEGORIES:
DESCRIPTION:We welcome Bishop Joe Kennedy to share our Confirmation Servic
 e
GEO:-2.788209;54.045789
LOCATION:Christ Church\, Lancaster
URL:https://www.achurchnearyou.com/church/11591/service-and-events/events/
 1245530/
END:VEVENT
END:VCALENDAR
