BEGIN:VCALENDAR
VERSION:2.0
PRODID:-//achurchnearyou.com//eventfeed//EN
CALSCALE:GREGORIAN
METHOD:PUBLISH
X-WR-TIMEZONE:UTC
BEGIN:VEVENT
SUMMARY:Craft Fair
DTSTART:20251115T100000Z
DTEND:20251115T140000Z
DTSTAMP:20260420T062906Z
UID:12455372025-11-15 10:00:00+00:00achurchnearyou
CATEGORIES:
DESCRIPTION:Looking for a handmade gift? Like to support local crafters? P
 op along to our Craft Fair!
GEO:-2.788209;54.045789
LOCATION:Christ Church\, Lancaster
URL:https://www.achurchnearyou.com/church/11591/service-and-events/events/
 1245537/
END:VEVENT
END:VCALENDAR
