BEGIN:VCALENDAR
VERSION:2.0
PRODID:-//achurchnearyou.com//eventfeed//EN
CALSCALE:GREGORIAN
METHOD:PUBLISH
X-WR-TIMEZONE:UTC
BEGIN:VEVENT
SUMMARY:Tenebrae Service
DTSTART;TZID=Europe/London:20260401T180000
DTEND;TZID=Europe/London:20260401T190000
DTSTAMP:20260420T033009Z
UID:12927891775062800.0achurchnearyou
CATEGORIES:
DESCRIPTION:A quiet\, contemplative service
GEO:-2.855355;54.0112
LOCATION:St Helen's Overton
URL:https://www.achurchnearyou.com/church/11597/service-and-events/events/
 1292789/
END:VEVENT
BEGIN:VEVENT
SUMMARY:Maundy Thursday Service
DTSTART;TZID=Europe/London:20260402T180000
DTEND;TZID=Europe/London:20260402T190000
DTSTAMP:20260420T033009Z
UID:12927901775149200.0achurchnearyou
CATEGORIES:
DESCRIPTION:We prepare for Easter
GEO:-2.855355;54.0112
LOCATION:St Helen's Overton
URL:https://www.achurchnearyou.com/church/11597/service-and-events/events/
 1292790/
END:VEVENT
BEGIN:VEVENT
SUMMARY:Good Friday
DTSTART;TZID=Europe/London:20260403T104500
DTEND;TZID=Europe/London:20260403T114500
DTSTAMP:20260420T033009Z
UID:12927911775209500.0achurchnearyou
CATEGORIES:
DESCRIPTION:Come and walk with Jesus and hear the Good Friday story
GEO:-2.855355;54.0112
LOCATION:St Helen's Overton
URL:https://www.achurchnearyou.com/church/11597/service-and-events/events/
 1292791/
END:VEVENT
BEGIN:VEVENT
SUMMARY:Easter Day
DTSTART;TZID=Europe/London:20260405T104500
DTEND;TZID=Europe/London:20260405T114500
DTSTAMP:20260420T033009Z
UID:12927931775382300.0achurchnearyou
CATEGORIES:
DESCRIPTION:We celebrate the risen Lord
GEO:-2.855355;54.0112
LOCATION:St Helen's Overton
URL:https://www.achurchnearyou.com/church/11597/service-and-events/events/
 1292793/
END:VEVENT
BEGIN:VEVENT
SUMMARY:Sunday Eucharist at 10.45
DTSTART;TZID=Europe/London:20260405T104500
DTEND;TZID=Europe/London:20260405T114500
DTSTAMP:20260420T033009Z
UID:10146721775382300.0achurchnearyou
CATEGORIES:
DESCRIPTION:All are welcome to this service. Junior Church usually takes p
 lace twice a month.
GEO:-2.855355;54.0112
LOCATION:St Helen's Overton
URL:https://www.achurchnearyou.com/church/11597/service-and-events/events/
 1014672/
END:VEVENT
BEGIN:VEVENT
SUMMARY:Sunday Eucharist at 10.45
DTSTART;TZID=Europe/London:20260412T104500
DTEND;TZID=Europe/London:20260412T114500
DTSTAMP:20260420T033009Z
UID:10146721775987100.0achurchnearyou
CATEGORIES:
DESCRIPTION:All are welcome to this service. Junior Church usually takes p
 lace twice a month.
GEO:-2.855355;54.0112
LOCATION:St Helen's Overton
URL:https://www.achurchnearyou.com/church/11597/service-and-events/events/
 1014672/
END:VEVENT
BEGIN:VEVENT
SUMMARY:Sunday Eucharist at 10.45
DTSTART;TZID=Europe/London:20260419T104500
DTEND;TZID=Europe/London:20260419T114500
DTSTAMP:20260420T033009Z
UID:10146721776591900.0achurchnearyou
CATEGORIES:
DESCRIPTION:All are welcome to this service. Junior Church usually takes p
 lace twice a month.
GEO:-2.855355;54.0112
LOCATION:St Helen's Overton
URL:https://www.achurchnearyou.com/church/11597/service-and-events/events/
 1014672/
END:VEVENT
BEGIN:VEVENT
SUMMARY:Sunday Eucharist at 10.45
DTSTART;TZID=Europe/London:20260426T104500
DTEND;TZID=Europe/London:20260426T114500
DTSTAMP:20260420T033009Z
UID:10146721777196700.0achurchnearyou
CATEGORIES:
DESCRIPTION:All are welcome to this service. Junior Church usually takes p
 lace twice a month.
GEO:-2.855355;54.0112
LOCATION:St Helen's Overton
URL:https://www.achurchnearyou.com/church/11597/service-and-events/events/
 1014672/
END:VEVENT
BEGIN:VEVENT
SUMMARY:Sunday Eucharist at 10.45
DTSTART;TZID=Europe/London:20260503T104500
DTEND;TZID=Europe/London:20260503T114500
DTSTAMP:20260420T033009Z
UID:10146721777801500.0achurchnearyou
CATEGORIES:
DESCRIPTION:All are welcome to this service. Junior Church usually takes p
 lace twice a month.
GEO:-2.855355;54.0112
LOCATION:St Helen's Overton
URL:https://www.achurchnearyou.com/church/11597/service-and-events/events/
 1014672/
END:VEVENT
BEGIN:VEVENT
SUMMARY:Sunday Eucharist at 10.45
DTSTART;TZID=Europe/London:20260510T104500
DTEND;TZID=Europe/London:20260510T114500
DTSTAMP:20260420T033009Z
UID:10146721778406300.0achurchnearyou
CATEGORIES:
DESCRIPTION:All are welcome to this service. Junior Church usually takes p
 lace twice a month.
GEO:-2.855355;54.0112
LOCATION:St Helen's Overton
URL:https://www.achurchnearyou.com/church/11597/service-and-events/events/
 1014672/
END:VEVENT
BEGIN:VEVENT
SUMMARY:Sunday Eucharist at 10.45
DTSTART;TZID=Europe/London:20260517T104500
DTEND;TZID=Europe/London:20260517T114500
DTSTAMP:20260420T033009Z
UID:10146721779011100.0achurchnearyou
CATEGORIES:
DESCRIPTION:All are welcome to this service. Junior Church usually takes p
 lace twice a month.
GEO:-2.855355;54.0112
LOCATION:St Helen's Overton
URL:https://www.achurchnearyou.com/church/11597/service-and-events/events/
 1014672/
END:VEVENT
BEGIN:VEVENT
SUMMARY:Sunday Eucharist at 10.45
DTSTART;TZID=Europe/London:20260524T104500
DTEND;TZID=Europe/London:20260524T114500
DTSTAMP:20260420T033009Z
UID:10146721779615900.0achurchnearyou
CATEGORIES:
DESCRIPTION:All are welcome to this service. Junior Church usually takes p
 lace twice a month.
GEO:-2.855355;54.0112
LOCATION:St Helen's Overton
URL:https://www.achurchnearyou.com/church/11597/service-and-events/events/
 1014672/
END:VEVENT
BEGIN:VEVENT
SUMMARY:Sunday Eucharist at 10.45
DTSTART;TZID=Europe/London:20260531T104500
DTEND;TZID=Europe/London:20260531T114500
DTSTAMP:20260420T033009Z
UID:10146721780220700.0achurchnearyou
CATEGORIES:
DESCRIPTION:All are welcome to this service. Junior Church usually takes p
 lace twice a month.
GEO:-2.855355;54.0112
LOCATION:St Helen's Overton
URL:https://www.achurchnearyou.com/church/11597/service-and-events/events/
 1014672/
END:VEVENT
BEGIN:VEVENT
SUMMARY:Sunday Eucharist at 10.45
DTSTART;TZID=Europe/London:20260607T104500
DTEND;TZID=Europe/London:20260607T114500
DTSTAMP:20260420T033009Z
UID:10146721780825500.0achurchnearyou
CATEGORIES:
DESCRIPTION:All are welcome to this service. Junior Church usually takes p
 lace twice a month.
GEO:-2.855355;54.0112
LOCATION:St Helen's Overton
URL:https://www.achurchnearyou.com/church/11597/service-and-events/events/
 1014672/
END:VEVENT
BEGIN:VEVENT
SUMMARY:Sunday Eucharist at 10.45
DTSTART;TZID=Europe/London:20260614T104500
DTEND;TZID=Europe/London:20260614T114500
DTSTAMP:20260420T033009Z
UID:10146721781430300.0achurchnearyou
CATEGORIES:
DESCRIPTION:All are welcome to this service. Junior Church usually takes p
 lace twice a month.
GEO:-2.855355;54.0112
LOCATION:St Helen's Overton
URL:https://www.achurchnearyou.com/church/11597/service-and-events/events/
 1014672/
END:VEVENT
BEGIN:VEVENT
SUMMARY:Sunday Eucharist at 10.45
DTSTART;TZID=Europe/London:20260621T104500
DTEND;TZID=Europe/London:20260621T114500
DTSTAMP:20260420T033009Z
UID:10146721782035100.0achurchnearyou
CATEGORIES:
DESCRIPTION:All are welcome to this service. Junior Church usually takes p
 lace twice a month.
GEO:-2.855355;54.0112
LOCATION:St Helen's Overton
URL:https://www.achurchnearyou.com/church/11597/service-and-events/events/
 1014672/
END:VEVENT
BEGIN:VEVENT
SUMMARY:Sunday Eucharist at 10.45
DTSTART;TZID=Europe/London:20260628T104500
DTEND;TZID=Europe/London:20260628T114500
DTSTAMP:20260420T033009Z
UID:10146721782639900.0achurchnearyou
CATEGORIES:
DESCRIPTION:All are welcome to this service. Junior Church usually takes p
 lace twice a month.
GEO:-2.855355;54.0112
LOCATION:St Helen's Overton
URL:https://www.achurchnearyou.com/church/11597/service-and-events/events/
 1014672/
END:VEVENT
BEGIN:VEVENT
SUMMARY:Sunday Eucharist at 10.45
DTSTART;TZID=Europe/London:20260705T104500
DTEND;TZID=Europe/London:20260705T114500
DTSTAMP:20260420T033009Z
UID:10146721783244700.0achurchnearyou
CATEGORIES:
DESCRIPTION:All are welcome to this service. Junior Church usually takes p
 lace twice a month.
GEO:-2.855355;54.0112
LOCATION:St Helen's Overton
URL:https://www.achurchnearyou.com/church/11597/service-and-events/events/
 1014672/
END:VEVENT
BEGIN:VEVENT
SUMMARY:Sunday Eucharist at 10.45
DTSTART;TZID=Europe/London:20260712T104500
DTEND;TZID=Europe/London:20260712T114500
DTSTAMP:20260420T033009Z
UID:10146721783849500.0achurchnearyou
CATEGORIES:
DESCRIPTION:All are welcome to this service. Junior Church usually takes p
 lace twice a month.
GEO:-2.855355;54.0112
LOCATION:St Helen's Overton
URL:https://www.achurchnearyou.com/church/11597/service-and-events/events/
 1014672/
END:VEVENT
BEGIN:VEVENT
SUMMARY:Sunday Eucharist at 10.45
DTSTART;TZID=Europe/London:20260719T104500
DTEND;TZID=Europe/London:20260719T114500
DTSTAMP:20260420T033009Z
UID:10146721784454300.0achurchnearyou
CATEGORIES:
DESCRIPTION:All are welcome to this service. Junior Church usually takes p
 lace twice a month.
GEO:-2.855355;54.0112
LOCATION:St Helen's Overton
URL:https://www.achurchnearyou.com/church/11597/service-and-events/events/
 1014672/
END:VEVENT
BEGIN:VEVENT
SUMMARY:Sunday Eucharist at 10.45
DTSTART;TZID=Europe/London:20260726T104500
DTEND;TZID=Europe/London:20260726T114500
DTSTAMP:20260420T033009Z
UID:10146721785059100.0achurchnearyou
CATEGORIES:
DESCRIPTION:All are welcome to this service. Junior Church usually takes p
 lace twice a month.
GEO:-2.855355;54.0112
LOCATION:St Helen's Overton
URL:https://www.achurchnearyou.com/church/11597/service-and-events/events/
 1014672/
END:VEVENT
BEGIN:VEVENT
SUMMARY:Sunday Eucharist at 10.45
DTSTART;TZID=Europe/London:20260802T104500
DTEND;TZID=Europe/London:20260802T114500
DTSTAMP:20260420T033009Z
UID:10146721785663900.0achurchnearyou
CATEGORIES:
DESCRIPTION:All are welcome to this service. Junior Church usually takes p
 lace twice a month.
GEO:-2.855355;54.0112
LOCATION:St Helen's Overton
URL:https://www.achurchnearyou.com/church/11597/service-and-events/events/
 1014672/
END:VEVENT
BEGIN:VEVENT
SUMMARY:Sunday Eucharist at 10.45
DTSTART;TZID=Europe/London:20260809T104500
DTEND;TZID=Europe/London:20260809T114500
DTSTAMP:20260420T033009Z
UID:10146721786268700.0achurchnearyou
CATEGORIES:
DESCRIPTION:All are welcome to this service. Junior Church usually takes p
 lace twice a month.
GEO:-2.855355;54.0112
LOCATION:St Helen's Overton
URL:https://www.achurchnearyou.com/church/11597/service-and-events/events/
 1014672/
END:VEVENT
BEGIN:VEVENT
SUMMARY:Sunday Eucharist at 10.45
DTSTART;TZID=Europe/London:20260816T104500
DTEND;TZID=Europe/London:20260816T114500
DTSTAMP:20260420T033009Z
UID:10146721786873500.0achurchnearyou
CATEGORIES:
DESCRIPTION:All are welcome to this service. Junior Church usually takes p
 lace twice a month.
GEO:-2.855355;54.0112
LOCATION:St Helen's Overton
URL:https://www.achurchnearyou.com/church/11597/service-and-events/events/
 1014672/
END:VEVENT
BEGIN:VEVENT
SUMMARY:Sunday Eucharist at 10.45
DTSTART;TZID=Europe/London:20260823T104500
DTEND;TZID=Europe/London:20260823T114500
DTSTAMP:20260420T033009Z
UID:10146721787478300.0achurchnearyou
CATEGORIES:
DESCRIPTION:All are welcome to this service. Junior Church usually takes p
 lace twice a month.
GEO:-2.855355;54.0112
LOCATION:St Helen's Overton
URL:https://www.achurchnearyou.com/church/11597/service-and-events/events/
 1014672/
END:VEVENT
BEGIN:VEVENT
SUMMARY:Sunday Eucharist at 10.45
DTSTART;TZID=Europe/London:20260830T104500
DTEND;TZID=Europe/London:20260830T114500
DTSTAMP:20260420T033009Z
UID:10146721788083100.0achurchnearyou
CATEGORIES:
DESCRIPTION:All are welcome to this service. Junior Church usually takes p
 lace twice a month.
GEO:-2.855355;54.0112
LOCATION:St Helen's Overton
URL:https://www.achurchnearyou.com/church/11597/service-and-events/events/
 1014672/
END:VEVENT
BEGIN:VEVENT
SUMMARY:Sunday Eucharist at 10.45
DTSTART;TZID=Europe/London:20260906T104500
DTEND;TZID=Europe/London:20260906T114500
DTSTAMP:20260420T033009Z
UID:10146721788687900.0achurchnearyou
CATEGORIES:
DESCRIPTION:All are welcome to this service. Junior Church usually takes p
 lace twice a month.
GEO:-2.855355;54.0112
LOCATION:St Helen's Overton
URL:https://www.achurchnearyou.com/church/11597/service-and-events/events/
 1014672/
END:VEVENT
BEGIN:VEVENT
SUMMARY:Sunday Eucharist at 10.45
DTSTART;TZID=Europe/London:20260913T104500
DTEND;TZID=Europe/London:20260913T114500
DTSTAMP:20260420T033009Z
UID:10146721789292700.0achurchnearyou
CATEGORIES:
DESCRIPTION:All are welcome to this service. Junior Church usually takes p
 lace twice a month.
GEO:-2.855355;54.0112
LOCATION:St Helen's Overton
URL:https://www.achurchnearyou.com/church/11597/service-and-events/events/
 1014672/
END:VEVENT
BEGIN:VEVENT
SUMMARY:Sunday Eucharist at 10.45
DTSTART;TZID=Europe/London:20260920T104500
DTEND;TZID=Europe/London:20260920T114500
DTSTAMP:20260420T033009Z
UID:10146721789897500.0achurchnearyou
CATEGORIES:
DESCRIPTION:All are welcome to this service. Junior Church usually takes p
 lace twice a month.
GEO:-2.855355;54.0112
LOCATION:St Helen's Overton
URL:https://www.achurchnearyou.com/church/11597/service-and-events/events/
 1014672/
END:VEVENT
BEGIN:VEVENT
SUMMARY:Sunday Eucharist at 10.45
DTSTART;TZID=Europe/London:20260927T104500
DTEND;TZID=Europe/London:20260927T114500
DTSTAMP:20260420T033009Z
UID:10146721790502300.0achurchnearyou
CATEGORIES:
DESCRIPTION:All are welcome to this service. Junior Church usually takes p
 lace twice a month.
GEO:-2.855355;54.0112
LOCATION:St Helen's Overton
URL:https://www.achurchnearyou.com/church/11597/service-and-events/events/
 1014672/
END:VEVENT
END:VCALENDAR
