BEGIN:VCALENDAR
VERSION:2.0
PRODID:-//achurchnearyou.com//eventfeed//EN
CALSCALE:GREGORIAN
METHOD:PUBLISH
X-WR-TIMEZONE:UTC
BEGIN:VEVENT
SUMMARY:Holy Communion with Baptism\, renewal of Baptism Vows and Easter C
 elebrations.
DTSTART:20250420T093000Z
DTEND:20250420T104500Z
DTSTAMP:20260425T010602Z
UID:11894022025-04-20 09:30:00+00:00achurchnearyou
CATEGORIES:
DESCRIPTION:It would be great to see you as we celebrate together Jesus' a
 live. Easter is very important to Christians as it is the celebration of J
 esus dying for our sins and then rising again. In so doing\, he offers us 
 new life in him. On the third day after his crucifixion\, Jesus's tomb was
  found to be empty. He had risen from the dead. Life triumphs over death! 
 The joy of resurrection is possible only because Christ endured death and 
 conquered it.
GEO:-2.887513;54.058011
LOCATION:St John the Divine
URL:https://www.achurchnearyou.com/church/11601/service-and-events/events/
 1189402/
END:VEVENT
END:VCALENDAR
