BEGIN:VCALENDAR
VERSION:2.0
PRODID:-//achurchnearyou.com//eventfeed//EN
CALSCALE:GREGORIAN
METHOD:PUBLISH
X-WR-TIMEZONE:UTC
BEGIN:VEVENT
SUMMARY:Carol Singing
DTSTART:20251219T190000Z
DTEND:20251219T200000Z
DTSTAMP:20260420T113143Z
UID:12690002025-12-19 19:00:00+00:00achurchnearyou
CATEGORIES:
DESCRIPTION:We will be singing carols on Plungington Rd\, followed by refr
 eshments in the centre!
GEO:-2.712497;53.769191
LOCATION:Emmanuel
URL:https://www.achurchnearyou.com/church/11621/service-and-events/events/
 1269000/
END:VEVENT
END:VCALENDAR
