BEGIN:VCALENDAR
VERSION:2.0
PRODID:-//achurchnearyou.com//eventfeed//EN
CALSCALE:GREGORIAN
METHOD:PUBLISH
X-WR-TIMEZONE:UTC
BEGIN:VEVENT
SUMMARY:Maundy Thursday Meal
DTSTART:20260402T180000Z
DTEND:20260402T190000Z
DTSTAMP:20260420T034841Z
UID:13205572026-04-02 18:00:00+00:00achurchnearyou
CATEGORIES:
DESCRIPTION:Join us as we eat together and reflect on the Last Supper.
GEO:-2.712497;53.769191
LOCATION:Emmanuel
URL:https://www.achurchnearyou.com/church/11621/service-and-events/events/
 1320557/
END:VEVENT
END:VCALENDAR
