BEGIN:VCALENDAR
VERSION:2.0
PRODID:-//achurchnearyou.com//eventfeed//EN
CALSCALE:GREGORIAN
METHOD:PUBLISH
X-WR-TIMEZONE:UTC
BEGIN:VEVENT
SUMMARY:Maundy Thursday Communion and Supper
DTSTART:20250417T170000Z
DTEND:20250417T180000Z
DTSTAMP:20260424T215331Z
UID:11807932025-04-17 17:00:00+00:00achurchnearyou
CATEGORIES:
DESCRIPTION:Communion and Soup Supper
GEO:-2.718827;53.776394
LOCATION:St Cuthbert's\, Fulwood
URL:https://www.achurchnearyou.com/church/11622/service-and-events/events/
 1180793/
END:VEVENT
END:VCALENDAR
