BEGIN:VCALENDAR
VERSION:2.0
PRODID:-//achurchnearyou.com//eventfeed//EN
CALSCALE:GREGORIAN
METHOD:PUBLISH
X-WR-TIMEZONE:UTC
BEGIN:VEVENT
SUMMARY:Community Lunch
DTSTART;TZID=Europe/London:20251001T120000
DTEND;TZID=Europe/London:20251001T140000
DTSTAMP:20260424T073318Z
UID:12261612025-10-01 12:00:00+01:00achurchnearyou
CATEGORIES:
DESCRIPTION:Join us for lunch every first and third Wednesday of the month
 !
GEO:-2.718827;53.776394
LOCATION:St Cuthbert's\, Fulwood
URL:https://www.stcuthbertsfulwood.church/calendar/
END:VEVENT
BEGIN:VEVENT
SUMMARY:Community Lunch
DTSTART;TZID=Europe/London:20251015T120000
DTEND;TZID=Europe/London:20251015T140000
DTSTAMP:20260424T073318Z
UID:12261612025-10-15 12:00:00+01:00achurchnearyou
CATEGORIES:
DESCRIPTION:Join us for lunch every first and third Wednesday of the month
 !
GEO:-2.718827;53.776394
LOCATION:St Cuthbert's\, Fulwood
URL:https://www.stcuthbertsfulwood.church/calendar/
END:VEVENT
BEGIN:VEVENT
SUMMARY:Community Lunch
DTSTART;TZID=Europe/London:20251105T120000
DTEND;TZID=Europe/London:20251105T140000
DTSTAMP:20260424T073318Z
UID:12261612025-11-05 12:00:00+00:00achurchnearyou
CATEGORIES:
DESCRIPTION:Join us for lunch every first and third Wednesday of the month
 !
GEO:-2.718827;53.776394
LOCATION:St Cuthbert's\, Fulwood
URL:https://www.stcuthbertsfulwood.church/calendar/
END:VEVENT
BEGIN:VEVENT
SUMMARY:Community Lunch
DTSTART;TZID=Europe/London:20251119T120000
DTEND;TZID=Europe/London:20251119T140000
DTSTAMP:20260424T073318Z
UID:12261612025-11-19 12:00:00+00:00achurchnearyou
CATEGORIES:
DESCRIPTION:Join us for lunch every first and third Wednesday of the month
 !
GEO:-2.718827;53.776394
LOCATION:St Cuthbert's\, Fulwood
URL:https://www.stcuthbertsfulwood.church/calendar/
END:VEVENT
BEGIN:VEVENT
SUMMARY:Community Lunch
DTSTART;TZID=Europe/London:20251203T120000
DTEND;TZID=Europe/London:20251203T140000
DTSTAMP:20260424T073318Z
UID:12261612025-12-03 12:00:00+00:00achurchnearyou
CATEGORIES:
DESCRIPTION:Join us for lunch every first and third Wednesday of the month
 !
GEO:-2.718827;53.776394
LOCATION:St Cuthbert's\, Fulwood
URL:https://www.stcuthbertsfulwood.church/calendar/
END:VEVENT
END:VCALENDAR
