BEGIN:VCALENDAR
VERSION:2.0
PRODID:-//achurchnearyou.com//eventfeed//EN
CALSCALE:GREGORIAN
METHOD:PUBLISH
X-WR-TIMEZONE:UTC
BEGIN:VEVENT
SUMMARY:Baby Loss Service
DTSTART:20251015T180000Z
DTEND:20251015T190000Z
DTSTAMP:20260424T032008Z
UID:12634242025-10-15 18:00:00+00:00achurchnearyou
CATEGORIES:
DESCRIPTION:.
GEO:-2.718827;53.776394
LOCATION:St Cuthbert's\, Fulwood
URL:https://www.achurchnearyou.com/church/11622/service-and-events/events/
 1263424/
END:VEVENT
END:VCALENDAR
