BEGIN:VCALENDAR
VERSION:2.0
PRODID:-//achurchnearyou.com//eventfeed//EN
CALSCALE:GREGORIAN
METHOD:PUBLISH
X-WR-TIMEZONE:UTC
BEGIN:VEVENT
SUMMARY:The Longest Night Service
DTSTART:20251221T190000Z
DTEND:20251221T200000Z
DTSTAMP:20260424T012811Z
UID:12801312025-12-21 19:00:00+00:00achurchnearyou
CATEGORIES:
DESCRIPTION:.
GEO:-2.718827;53.776394
LOCATION:St Cuthbert's\, Fulwood
URL:https://www.achurchnearyou.com/church/11622/service-and-events/events/
 1280131/
END:VEVENT
END:VCALENDAR
