BEGIN:VCALENDAR
VERSION:2.0
PRODID:-//achurchnearyou.com//eventfeed//EN
CALSCALE:GREGORIAN
METHOD:PUBLISH
X-WR-TIMEZONE:UTC
BEGIN:VEVENT
SUMMARY:Family Service for Mothering Sunday
DTSTART:20250330T090000Z
DTEND:20250330T101500Z
DTSTAMP:20260419T150753Z
UID:11810862025-03-30 09:00:00+00:00achurchnearyou
CATEGORIES:
DESCRIPTION:A service of Holy Communion for all the family to celebrate Mo
 thering Sunday
GEO:-2.767385;54.075943
LOCATION:St Wilfrid
URL:https://www.achurchnearyou.com/church/11641/service-and-events/events/
 1181086/
END:VEVENT
END:VCALENDAR
