BEGIN:VCALENDAR
VERSION:2.0
PRODID:-//achurchnearyou.com//eventfeed//EN
CALSCALE:GREGORIAN
METHOD:PUBLISH
X-WR-TIMEZONE:UTC
BEGIN:VEVENT
SUMMARY:Reflective Evening Prayer
DTSTART;TZID=Europe/London:20250223T160000
DTEND;TZID=Europe/London:20250223T170000
DTSTAMP:20260419T130958Z
UID:5695742025-02-23 16:00:00+00:00achurchnearyou
CATEGORIES:
DESCRIPTION:A quiet reflective service of using music from the Iona and Ta
 ize communities
GEO:-2.767385;54.075943
LOCATION:St Wilfrid
URL:https://www.achurchnearyou.com/church/11641/service-and-events/events/
 569574/
END:VEVENT
BEGIN:VEVENT
SUMMARY:Reflective Evening Prayer
DTSTART;TZID=Europe/London:20250427T160000
DTEND;TZID=Europe/London:20250427T170000
DTSTAMP:20260419T130958Z
UID:5695742025-04-27 16:00:00+01:00achurchnearyou
CATEGORIES:
DESCRIPTION:A quiet reflective service of using music from the Iona and Ta
 ize communities
GEO:-2.767385;54.075943
LOCATION:St Wilfrid
URL:https://www.achurchnearyou.com/church/11641/service-and-events/events/
 569574/
END:VEVENT
END:VCALENDAR
