BEGIN:VCALENDAR
VERSION:2.0
PRODID:-//achurchnearyou.com//eventfeed//EN
CALSCALE:GREGORIAN
METHOD:PUBLISH
X-WR-TIMEZONE:UTC
BEGIN:VEVENT
SUMMARY:Holy Communion
DTSTART;TZID=Europe/London:20260503T111500
DTEND;TZID=Europe/London:20260503T121500
DTSTAMP:20260420T084026Z
UID:2761172026-05-03 11:15:00+01:00achurchnearyou
CATEGORIES:
DESCRIPTION:Service of Holy Communion to which all are welcome. Please che
 ck our Benefice magazine 'The Bell' under ' Benefice of East Lonsdale' for
  service times.
GEO:-2.54837;54.183923
LOCATION:St Peter
URL:https://www.achurchnearyou.com/church/11642/service-and-events/events/
 276117/
END:VEVENT
BEGIN:VEVENT
SUMMARY:Holy Communion
DTSTART;TZID=Europe/London:20260607T111500
DTEND;TZID=Europe/London:20260607T121500
DTSTAMP:20260420T084026Z
UID:2761172026-06-07 11:15:00+01:00achurchnearyou
CATEGORIES:
DESCRIPTION:Service of Holy Communion to which all are welcome. Please che
 ck our Benefice magazine 'The Bell' under ' Benefice of East Lonsdale' for
  service times.
GEO:-2.54837;54.183923
LOCATION:St Peter
URL:https://www.achurchnearyou.com/church/11642/service-and-events/events/
 276117/
END:VEVENT
BEGIN:VEVENT
SUMMARY:Holy Communion
DTSTART;TZID=Europe/London:20260705T111500
DTEND;TZID=Europe/London:20260705T121500
DTSTAMP:20260420T084026Z
UID:2761172026-07-05 11:15:00+01:00achurchnearyou
CATEGORIES:
DESCRIPTION:Service of Holy Communion to which all are welcome. Please che
 ck our Benefice magazine 'The Bell' under ' Benefice of East Lonsdale' for
  service times.
GEO:-2.54837;54.183923
LOCATION:St Peter
URL:https://www.achurchnearyou.com/church/11642/service-and-events/events/
 276117/
END:VEVENT
BEGIN:VEVENT
SUMMARY:Holy Communion
DTSTART;TZID=Europe/London:20260802T111500
DTEND;TZID=Europe/London:20260802T121500
DTSTAMP:20260420T084026Z
UID:2761172026-08-02 11:15:00+01:00achurchnearyou
CATEGORIES:
DESCRIPTION:Service of Holy Communion to which all are welcome. Please che
 ck our Benefice magazine 'The Bell' under ' Benefice of East Lonsdale' for
  service times.
GEO:-2.54837;54.183923
LOCATION:St Peter
URL:https://www.achurchnearyou.com/church/11642/service-and-events/events/
 276117/
END:VEVENT
BEGIN:VEVENT
SUMMARY:Holy Communion
DTSTART;TZID=Europe/London:20260906T111500
DTEND;TZID=Europe/London:20260906T121500
DTSTAMP:20260420T084026Z
UID:2761172026-09-06 11:15:00+01:00achurchnearyou
CATEGORIES:
DESCRIPTION:Service of Holy Communion to which all are welcome. Please che
 ck our Benefice magazine 'The Bell' under ' Benefice of East Lonsdale' for
  service times.
GEO:-2.54837;54.183923
LOCATION:St Peter
URL:https://www.achurchnearyou.com/church/11642/service-and-events/events/
 276117/
END:VEVENT
BEGIN:VEVENT
SUMMARY:Holy Communion
DTSTART;TZID=Europe/London:20261004T111500
DTEND;TZID=Europe/London:20261004T121500
DTSTAMP:20260420T084026Z
UID:2761172026-10-04 11:15:00+01:00achurchnearyou
CATEGORIES:
DESCRIPTION:Service of Holy Communion to which all are welcome. Please che
 ck our Benefice magazine 'The Bell' under ' Benefice of East Lonsdale' for
  service times.
GEO:-2.54837;54.183923
LOCATION:St Peter
URL:https://www.achurchnearyou.com/church/11642/service-and-events/events/
 276117/
END:VEVENT
BEGIN:VEVENT
SUMMARY:Holy Communion
DTSTART;TZID=Europe/London:20261101T111500
DTEND;TZID=Europe/London:20261101T121500
DTSTAMP:20260420T084026Z
UID:2761172026-11-01 11:15:00+00:00achurchnearyou
CATEGORIES:
DESCRIPTION:Service of Holy Communion to which all are welcome. Please che
 ck our Benefice magazine 'The Bell' under ' Benefice of East Lonsdale' for
  service times.
GEO:-2.54837;54.183923
LOCATION:St Peter
URL:https://www.achurchnearyou.com/church/11642/service-and-events/events/
 276117/
END:VEVENT
BEGIN:VEVENT
SUMMARY:Holy Communion
DTSTART;TZID=Europe/London:20261206T111500
DTEND;TZID=Europe/London:20261206T121500
DTSTAMP:20260420T084026Z
UID:2761172026-12-06 11:15:00+00:00achurchnearyou
CATEGORIES:
DESCRIPTION:Service of Holy Communion to which all are welcome. Please che
 ck our Benefice magazine 'The Bell' under ' Benefice of East Lonsdale' for
  service times.
GEO:-2.54837;54.183923
LOCATION:St Peter
URL:https://www.achurchnearyou.com/church/11642/service-and-events/events/
 276117/
END:VEVENT
BEGIN:VEVENT
SUMMARY:Holy Communion
DTSTART;TZID=Europe/London:20270103T111500
DTEND;TZID=Europe/London:20270103T121500
DTSTAMP:20260420T084026Z
UID:2761172027-01-03 11:15:00+00:00achurchnearyou
CATEGORIES:
DESCRIPTION:Service of Holy Communion to which all are welcome. Please che
 ck our Benefice magazine 'The Bell' under ' Benefice of East Lonsdale' for
  service times.
GEO:-2.54837;54.183923
LOCATION:St Peter
URL:https://www.achurchnearyou.com/church/11642/service-and-events/events/
 276117/
END:VEVENT
BEGIN:VEVENT
SUMMARY:Holy Communion
DTSTART;TZID=Europe/London:20270207T111500
DTEND;TZID=Europe/London:20270207T121500
DTSTAMP:20260420T084026Z
UID:2761172027-02-07 11:15:00+00:00achurchnearyou
CATEGORIES:
DESCRIPTION:Service of Holy Communion to which all are welcome. Please che
 ck our Benefice magazine 'The Bell' under ' Benefice of East Lonsdale' for
  service times.
GEO:-2.54837;54.183923
LOCATION:St Peter
URL:https://www.achurchnearyou.com/church/11642/service-and-events/events/
 276117/
END:VEVENT
BEGIN:VEVENT
SUMMARY:Holy Communion
DTSTART;TZID=Europe/London:20270307T111500
DTEND;TZID=Europe/London:20270307T121500
DTSTAMP:20260420T084026Z
UID:2761172027-03-07 11:15:00+00:00achurchnearyou
CATEGORIES:
DESCRIPTION:Service of Holy Communion to which all are welcome. Please che
 ck our Benefice magazine 'The Bell' under ' Benefice of East Lonsdale' for
  service times.
GEO:-2.54837;54.183923
LOCATION:St Peter
URL:https://www.achurchnearyou.com/church/11642/service-and-events/events/
 276117/
END:VEVENT
BEGIN:VEVENT
SUMMARY:Holy Communion
DTSTART;TZID=Europe/London:20270404T111500
DTEND;TZID=Europe/London:20270404T121500
DTSTAMP:20260420T084026Z
UID:2761172027-04-04 11:15:00+01:00achurchnearyou
CATEGORIES:
DESCRIPTION:Service of Holy Communion to which all are welcome. Please che
 ck our Benefice magazine 'The Bell' under ' Benefice of East Lonsdale' for
  service times.
GEO:-2.54837;54.183923
LOCATION:St Peter
URL:https://www.achurchnearyou.com/church/11642/service-and-events/events/
 276117/
END:VEVENT
END:VCALENDAR
