BEGIN:VCALENDAR
VERSION:2.0
PRODID:-//achurchnearyou.com//eventfeed//EN
CALSCALE:GREGORIAN
METHOD:PUBLISH
X-WR-TIMEZONE:UTC
BEGIN:VEVENT
SUMMARY:MORNING SERVICE
DTSTART;TZID=Europe/London:20260503T093000
DTEND;TZID=Europe/London:20260503T103000
DTSTAMP:20260423T124731Z
UID:2979262026-05-03 09:30:00+01:00achurchnearyou
CATEGORIES:
DESCRIPTION:Morning Service. All are very welcome.\nPlease check our websi
 te 'Benefice of East Lonsdale' at holiday times.
GEO:-2.616519;54.134808
LOCATION:St Wilfrid
URL:https://www.achurchnearyou.com/church/11643/service-and-events/events/
 297926/
END:VEVENT
BEGIN:VEVENT
SUMMARY:MORNING SERVICE
DTSTART;TZID=Europe/London:20260607T093000
DTEND;TZID=Europe/London:20260607T103000
DTSTAMP:20260423T124731Z
UID:2979262026-06-07 09:30:00+01:00achurchnearyou
CATEGORIES:
DESCRIPTION:Morning Service. All are very welcome.\nPlease check our websi
 te 'Benefice of East Lonsdale' at holiday times.
GEO:-2.616519;54.134808
LOCATION:St Wilfrid
URL:https://www.achurchnearyou.com/church/11643/service-and-events/events/
 297926/
END:VEVENT
BEGIN:VEVENT
SUMMARY:MORNING SERVICE
DTSTART;TZID=Europe/London:20260705T093000
DTEND;TZID=Europe/London:20260705T103000
DTSTAMP:20260423T124731Z
UID:2979262026-07-05 09:30:00+01:00achurchnearyou
CATEGORIES:
DESCRIPTION:Morning Service. All are very welcome.\nPlease check our websi
 te 'Benefice of East Lonsdale' at holiday times.
GEO:-2.616519;54.134808
LOCATION:St Wilfrid
URL:https://www.achurchnearyou.com/church/11643/service-and-events/events/
 297926/
END:VEVENT
BEGIN:VEVENT
SUMMARY:MORNING SERVICE
DTSTART;TZID=Europe/London:20260802T093000
DTEND;TZID=Europe/London:20260802T103000
DTSTAMP:20260423T124731Z
UID:2979262026-08-02 09:30:00+01:00achurchnearyou
CATEGORIES:
DESCRIPTION:Morning Service. All are very welcome.\nPlease check our websi
 te 'Benefice of East Lonsdale' at holiday times.
GEO:-2.616519;54.134808
LOCATION:St Wilfrid
URL:https://www.achurchnearyou.com/church/11643/service-and-events/events/
 297926/
END:VEVENT
BEGIN:VEVENT
SUMMARY:MORNING SERVICE
DTSTART;TZID=Europe/London:20260906T093000
DTEND;TZID=Europe/London:20260906T103000
DTSTAMP:20260423T124731Z
UID:2979262026-09-06 09:30:00+01:00achurchnearyou
CATEGORIES:
DESCRIPTION:Morning Service. All are very welcome.\nPlease check our websi
 te 'Benefice of East Lonsdale' at holiday times.
GEO:-2.616519;54.134808
LOCATION:St Wilfrid
URL:https://www.achurchnearyou.com/church/11643/service-and-events/events/
 297926/
END:VEVENT
BEGIN:VEVENT
SUMMARY:MORNING SERVICE
DTSTART;TZID=Europe/London:20261004T093000
DTEND;TZID=Europe/London:20261004T103000
DTSTAMP:20260423T124731Z
UID:2979262026-10-04 09:30:00+01:00achurchnearyou
CATEGORIES:
DESCRIPTION:Morning Service. All are very welcome.\nPlease check our websi
 te 'Benefice of East Lonsdale' at holiday times.
GEO:-2.616519;54.134808
LOCATION:St Wilfrid
URL:https://www.achurchnearyou.com/church/11643/service-and-events/events/
 297926/
END:VEVENT
BEGIN:VEVENT
SUMMARY:MORNING SERVICE
DTSTART;TZID=Europe/London:20261101T093000
DTEND;TZID=Europe/London:20261101T103000
DTSTAMP:20260423T124731Z
UID:2979262026-11-01 09:30:00+00:00achurchnearyou
CATEGORIES:
DESCRIPTION:Morning Service. All are very welcome.\nPlease check our websi
 te 'Benefice of East Lonsdale' at holiday times.
GEO:-2.616519;54.134808
LOCATION:St Wilfrid
URL:https://www.achurchnearyou.com/church/11643/service-and-events/events/
 297926/
END:VEVENT
BEGIN:VEVENT
SUMMARY:MORNING SERVICE
DTSTART;TZID=Europe/London:20261206T093000
DTEND;TZID=Europe/London:20261206T103000
DTSTAMP:20260423T124731Z
UID:2979262026-12-06 09:30:00+00:00achurchnearyou
CATEGORIES:
DESCRIPTION:Morning Service. All are very welcome.\nPlease check our websi
 te 'Benefice of East Lonsdale' at holiday times.
GEO:-2.616519;54.134808
LOCATION:St Wilfrid
URL:https://www.achurchnearyou.com/church/11643/service-and-events/events/
 297926/
END:VEVENT
BEGIN:VEVENT
SUMMARY:MORNING SERVICE
DTSTART;TZID=Europe/London:20270103T093000
DTEND;TZID=Europe/London:20270103T103000
DTSTAMP:20260423T124731Z
UID:2979262027-01-03 09:30:00+00:00achurchnearyou
CATEGORIES:
DESCRIPTION:Morning Service. All are very welcome.\nPlease check our websi
 te 'Benefice of East Lonsdale' at holiday times.
GEO:-2.616519;54.134808
LOCATION:St Wilfrid
URL:https://www.achurchnearyou.com/church/11643/service-and-events/events/
 297926/
END:VEVENT
BEGIN:VEVENT
SUMMARY:MORNING SERVICE
DTSTART;TZID=Europe/London:20270207T093000
DTEND;TZID=Europe/London:20270207T103000
DTSTAMP:20260423T124731Z
UID:2979262027-02-07 09:30:00+00:00achurchnearyou
CATEGORIES:
DESCRIPTION:Morning Service. All are very welcome.\nPlease check our websi
 te 'Benefice of East Lonsdale' at holiday times.
GEO:-2.616519;54.134808
LOCATION:St Wilfrid
URL:https://www.achurchnearyou.com/church/11643/service-and-events/events/
 297926/
END:VEVENT
BEGIN:VEVENT
SUMMARY:MORNING SERVICE
DTSTART;TZID=Europe/London:20270307T093000
DTEND;TZID=Europe/London:20270307T103000
DTSTAMP:20260423T124731Z
UID:2979262027-03-07 09:30:00+00:00achurchnearyou
CATEGORIES:
DESCRIPTION:Morning Service. All are very welcome.\nPlease check our websi
 te 'Benefice of East Lonsdale' at holiday times.
GEO:-2.616519;54.134808
LOCATION:St Wilfrid
URL:https://www.achurchnearyou.com/church/11643/service-and-events/events/
 297926/
END:VEVENT
BEGIN:VEVENT
SUMMARY:MORNING SERVICE
DTSTART;TZID=Europe/London:20270404T093000
DTEND;TZID=Europe/London:20270404T103000
DTSTAMP:20260423T124731Z
UID:2979262027-04-04 09:30:00+01:00achurchnearyou
CATEGORIES:
DESCRIPTION:Morning Service. All are very welcome.\nPlease check our websi
 te 'Benefice of East Lonsdale' at holiday times.
GEO:-2.616519;54.134808
LOCATION:St Wilfrid
URL:https://www.achurchnearyou.com/church/11643/service-and-events/events/
 297926/
END:VEVENT
END:VCALENDAR
