BEGIN:VCALENDAR
VERSION:2.0
PRODID:-//achurchnearyou.com//eventfeed//EN
CALSCALE:GREGORIAN
METHOD:PUBLISH
X-WR-TIMEZONE:UTC
BEGIN:VEVENT
SUMMARY:Remembrance Sunday
DTSTART:20251013T230000Z
DTEND:20251111T230000Z
DTSTAMP:20260422T101334Z
UID:12332982025-10-13 23:00:00+00:00achurchnearyou
CATEGORIES:
DESCRIPTION:Click on the attachment to see details of the Act of Remembran
 ce and Church Services on Remembrance Sunday and On Tuesday 11th November
URL:https://www.achurchnearyou.com/church/11652/service-and-events/events/
 1233298/
END:VEVENT
END:VCALENDAR
