BEGIN:VCALENDAR
VERSION:2.0
PRODID:-//achurchnearyou.com//eventfeed//EN
CALSCALE:GREGORIAN
METHOD:PUBLISH
X-WR-TIMEZONE:UTC
BEGIN:VEVENT
SUMMARY:Whittington Carol Service
DTSTART:20251219T180000Z
DTEND:20251219T193000Z
DTSTAMP:20260422T061535Z
UID:12533032025-12-19 18:00:00+00:00achurchnearyou
CATEGORIES:
DESCRIPTION:Joins us for traditional carols and readings. Mulled wine and 
 minces pies served afterwards.
GEO:-2.614889;54.180816
LOCATION:Whittington St Michael’s Parish Church
URL:https://www.achurchnearyou.com/church/11652/service-and-events/events/
 1253303/
END:VEVENT
END:VCALENDAR
